BEGIN:VCALENDAR
VERSION:2.0
PRODID:-//wp-events-plugin.com//7.2.3.1//EN
TZID:America/Detroit
X-WR-TIMEZONE:America/Detroit
BEGIN:VEVENT
UID:34561@arabamerica.com
DTSTART;TZID=America/Detroit:20250628T173000
DTEND;TZID=America/Detroit:20250628T200000
DTSTAMP:20250610T221106Z
URL:https://www.arabamerica.com/events/dmv-middle-eastern-christians-boat-
 cruise/
SUMMARY:DMV Middle Eastern Christians Boat Cruise
DESCRIPTION:WASHINGTON\, DC\n\n&nbsp\;\n\nJoin us for a boat cruise with fe
 llow Middle Eastern Christians in the DMV area!\n\n&nbsp\;\n\nDMV MIDDLE E
 ASTERN CHRISTIANS BOAT NIGHT &#x1f6a2\;&#x1f319\;\n\nGet ready for an unfo
 rgettable night on the water!\n\n&#x1f4c5\; Date: Saturday\, June 28.8:00\
 n&#x1f557\; Time: 5:30 PM - 8:00 PM.\n&#x1f4cd\; Location: 3100 K St NW.\n
 &#x1f3a7\; Arabic music the entire sail.\n&#x1f379\; Cash Bar on board\n\n
 &#x1f39f\;&#xfe0f\; Limited spots – Secure your place now!\n\n21+ ONLY!\
 n\nCome join us for a fun-filled day on the water at the Georgetown Waterf
 ront! This event is a great opportunity to meet and connect with fellow Mi
 ddle Eastern Christians in the DMV area. Enjoy breathtaking views of the P
 otomac River while dancing to your favorite Arabic music! Don't miss out o
 n this unique experience to cruise along the beautiful waterfront and crea
 te lasting memories.\n\nThe dock is right behind Fiola Mare restaurant. Th
 e boat will begin boarding at 5:30 PM and will leave PROMPTLY at 6:00 PM. 
 We are unable to wait for anyone that does not arrive and board on time. P
 lease allow ample time for parking and walking over to the location.\n\nOU
 TSIDE ALCOHOLIC BEVERAGES ARE NOT PERMITTED. There is a cash bar on board 
 and water will be provided.\n\nTicket sales will close on June 25th or whe
 n we reach capacity. Get your tickets early and avoid missing out on this 
 amazing adventure!\n\nGet Tickets Here
ATTACH;FMTTYPE=image/jpeg:https://www.arabamerica.com/wp-content/uploads/2
 025/06/Screenshot-2025-06-10-at-6.11.51-PM.png
CATEGORIES:Arab American,Community,culture
LOCATION:3100 K Street\, 3100 K Street Northwest\, Washington\, DC\, 20007\
 , United States
GEO:38.903893;-77.067765
X-APPLE-STRUCTURED-LOCATION;VALUE=URI;X-ADDRESS=3100 K Street Northwest\, W
 ashington\, DC\, 20007\, United States;X-APPLE-RADIUS=100;X-TITLE=3100 K S
 treet:geo:38.903893,-77.067765
END:VEVENT
BEGIN:VTIMEZONE
TZID:America/Detroit
X-LIC-LOCATION:America/Detroit
BEGIN:DAYLIGHT
DTSTART:20250309T030000
TZOFFSETFROM:-0500
TZOFFSETTO:-0400
TZNAME:EDT
END:DAYLIGHT
END:VTIMEZONE
END:VCALENDAR