BEGIN:VCALENDAR
VERSION:2.0
PRODID:-//wp-events-plugin.com//7.2.3.1//EN
TZID:America/Detroit
X-WR-TIMEZONE:America/Detroit
BEGIN:VEVENT
UID:30359@arabamerica.com
DTSTART;TZID=America/Detroit:20230404T190000
DTEND;TZID=America/Detroit:20230404T210000
DTSTAMP:20230131T051003Z
URL:https://www.arabamerica.com/events/do-you-believe-in-thoth-my-life-wit
 h-an-amiable-ancient-egyptian-god/
SUMMARY:Do You Believe in Thoth? My Life with an Amiable Ancient Egyptian G
 od
DESCRIPTION:Oriental Institute - Breasted Hall\n\n&nbsp\;\n\nRichard Jasnow
 \, Professor of Egyptology\; Chair\, Department of Near Eastern Studies\, 
 Johns Hopkins University joins us for an OI Members Lecture.\n\nWhile he d
 oes not profess to be a historian of religion\, Richard Jasnow has been en
 gaged with Thoth\, the Egyptian "god of wisdom" for the past thirty years.
  Thoth has an immense range of responsibilities: writing\, magic\, astrono
 my\, time itself. As is the case with all Egyptian deities\, Thoth can be 
 difficult\, if not impossible to pin down\, a true shape-shifter. In this 
 talk\, Jasnow explores in image and text various aspects of this divine be
 ing. Thoth is a profoundly approachable god\, and the Ancient Egyptians of
 ten turned to him in times of need. Jasnow is especially interested in the
  relationship between us humans and this powerful deity.\n\nRegistration i
 s for in-person attendance only. This lecture will also be live-streamed o
 n the OI YouTube channel.
ATTACH;FMTTYPE=image/jpeg:https://www.arabamerica.com/wp-content/uploads/2
 023/01/2.jpeg
LOCATION:Oriental Institute - Breasted Hall\, 1155 East 58th Street\, chica
 go\, IL\, 60637\, United States
GEO:41.789242;-87.597491
X-APPLE-STRUCTURED-LOCATION;VALUE=URI;X-ADDRESS=1155 East 58th Street\, chi
 cago\, IL\, 60637\, United States;X-APPLE-RADIUS=100;X-TITLE=Oriental Inst
 itute - Breasted Hall:geo:41.789242,-87.597491
END:VEVENT
BEGIN:VTIMEZONE
TZID:America/Detroit
X-LIC-LOCATION:America/Detroit
BEGIN:DAYLIGHT
DTSTART:20230312T030000
TZOFFSETFROM:-0500
TZOFFSETTO:-0400
TZNAME:EDT
END:DAYLIGHT
END:VTIMEZONE
END:VCALENDAR