BEGIN:VCALENDAR
VERSION:2.0
PRODID:-//wp-events-plugin.com//7.2.3.1//EN
TZID:America/Detroit
X-WR-TIMEZONE:America/Detroit
BEGIN:VEVENT
UID:34384@arabamerica.com
DTSTART;TZID=America/Detroit:20250523T173000
DTEND;TZID=America/Detroit:20250523T210000
DTSTAMP:20250506T165811Z
URL:https://www.arabamerica.com/events/documentary-screening-live-music-by
 -nisreen-hajaz-match-midtown/
SUMMARY:Documentary Screening & Live Music by Nisreen Hajaz- MATCH Midtown
DESCRIPTION:HOUSTON\, TX\nNisreen Hajaj Music &amp\; Documentary Screening\
 nLive Music by Nisreen Hajaj | In Honor of Gaza Habibti Photo Exhibit Foll
 owed by a Documentary Screening: "30th of March"\n\nDocumentary Tickets: $
 20\nTO PURCHASE FILM TICKETS\n\nMATCH – Midtown Arts &amp\; Theater Cent
 er Houston\n\nLIMITED SEATING\n\nWe are honored to welcome the talented Ni
 sreen Hajaj for a short live performance featuring selected songs from Pal
 estine. Her set will highlight musical expressions of Palestinian culture 
 and identity. Nisreen performance will be followed by the screening of a p
 owerful documentary\, continuing the evening’s tribute to Palestinian he
 ritage and resilience.
ATTACH;FMTTYPE=image/jpeg:https://www.arabamerica.com/wp-content/uploads/2
 025/05/image-1.png
LOCATION:MATCH - Midtown Arts and Theater Center Houston\, 3400 Main St\, H
 ouston\, TX\, 77002\, United States
GEO:29.740395;-95.378824
X-APPLE-STRUCTURED-LOCATION;VALUE=URI;X-ADDRESS=3400 Main St\, Houston\, TX
 \, 77002\, United States;X-APPLE-RADIUS=100;X-TITLE=MATCH - Midtown Arts a
 nd Theater Center Houston:geo:29.740395,-95.378824
END:VEVENT
BEGIN:VTIMEZONE
TZID:America/Detroit
X-LIC-LOCATION:America/Detroit
BEGIN:DAYLIGHT
DTSTART:20250309T030000
TZOFFSETFROM:-0500
TZOFFSETTO:-0400
TZNAME:EDT
END:DAYLIGHT
END:VTIMEZONE
END:VCALENDAR