BEGIN:VCALENDAR
VERSION:2.0
PRODID:-//wp-events-plugin.com//7.2.3.1//EN
TZID:America/Detroit
X-WR-TIMEZONE:America/Detroit
BEGIN:VEVENT
UID:34848@arabamerica.com
DTSTART;TZID=America/Detroit:20250731T080000
DTEND;TZID=America/Detroit:20250731T090000
DTSTAMP:20250730T165051Z
URL:https://www.arabamerica.com/events/doing-business-in-the-uae/
SUMMARY:Doing Business in the UAE
DESCRIPTION:Ready to grow your business in the UAE?\n\nJoin our exclusive 
 online event on 31st July at 7:00 PM UAE / 11:00 AM Canada time and 
 discover how to successfully enter and expand in the United Arab Emirates
 !\n\nDon’t miss the insights\, opportunities\, and expert tips to take y
 our venture to the next level!\n\nDate: Thursday July 31st 2025\n\nTime:
  7:00 PM UAE time/ 11:00 AM Toronto time!\n\nOur expert speakers will sha
 re their experiences and provide valuable insights to help you navigate th
 e challenges of doing business in United Arab Emirates. Don't miss this op
 portunity to grow your business and explore new opportunities in one of th
 e fastest-growing economies in the world!\n\n&nbsp\;\n\nAbout The Corpora
 te Group:\n\nThe Corporate Group (TCG)\, founded in 2007 and headquartered
  in Dubai\, UAE\, with seven thriving subsidiaries specialized in distinct
  business solutions across the GCC. At TCG\, we excel in offering compreh
 ensive Business Setup and Consultancy Services\, fostering an environment 
 for your success.\n\n&nbsp\;\n\nThe Speakers\n\nAyman Al Awadhi an inspir
 ational leadership speaker and a business visionary\, aims to empower star
 tups\, individuals and organizations with knowledge\, skills\, and inspira
 tion they need to thrive in an ever-evolving world. He aims to cultivate a
 nd nurture leadership excellence\, corporate governance and transformation
 al projects as a leading Emirati-family business based in Dubai with an in
 ternational approach.\n\nAyman is Co-Founder of The Corporate Group (TCG) 
 based in Dubai with subsidiaries in KSA\, Oman and UK. TCG attracts FDIs o
 f corporates and startups across all business sectors to do business in th
 e UAE and GCC region.\n\n&nbsp\;\n\nBrij Bali is a global leader\, educat
 or\, and entrepreneur with over 30 years of experience advancing workforce
  development\, strategic partnerships\, and organizational transformation 
 across higher education\, government\, and industry. As Executive Directo
 r\, Strategic Partnerships (Canada)\, he focuses on enhancing the business
  landscape between Canada and the Gulf countries\, particularly the UAE\, 
 by driving innovation\, bilateral collaboration\, and cross-sector partner
 ships.\n\nHe is also President and CEO of International Talent Hub Inc.\,
  where he leads initiatives that scale global talent pipelines and build c
 ross-border innovation ecosystems. A trusted advisor to CEOs and boards\, 
 Brij helps organizations expand internationally through strategic planning
 \, workforce readiness\, and scalable partnership models.\n\nFor over seve
 n years\, he has worked with The Corporate Group (UAE) to support entrep
 reneurship incubators\, business development\, and international investmen
 t.
ATTACH;FMTTYPE=image/jpeg:https://www.arabamerica.com/wp-content/uploads/2
 025/07/Screenshot-2025-07-30-at-9.50.14-AM.png
END:VEVENT
BEGIN:VTIMEZONE
TZID:America/Detroit
X-LIC-LOCATION:America/Detroit
BEGIN:DAYLIGHT
DTSTART:20250309T030000
TZOFFSETFROM:-0500
TZOFFSETTO:-0400
TZNAME:EDT
END:DAYLIGHT
END:VTIMEZONE
END:VCALENDAR