BEGIN:VCALENDAR
VERSION:2.0
PRODID:-//wp-events-plugin.com//7.2.3.1//EN
TZID:America/Detroit
X-WR-TIMEZONE:America/Detroit
BEGIN:VEVENT
UID:34763@arabamerica.com
DTSTART;TZID=America/Detroit:20250817T130000
DTEND;TZID=America/Detroit:20250817T220000
DTSTAMP:20250714T202647Z
URL:https://www.arabamerica.com/events/dormition-festival-4/
SUMMARY:Dormition Festival August 17th
DESCRIPTION:LIVONIA\, MI\n\nAugust 14-17\n\nDormition Festival\n\nDelicious
  Middle Eastern food and desserts\n\nPremium bar and hooka\n\nHot and cold
  beverages\n\nKids area\n\n&nbsp\;\n\n&nbsp\;\n\n
ATTACH;FMTTYPE=image/jpeg:https://www.arabamerica.com/wp-content/uploads/2
 025/07/image.jpeg
LOCATION:Basilica of St. Mary\, 18100 Merriman Rd\, Livonia\, Michigan\, Un
 ited States
GEO:42.4188237;-83.35410830000001
X-APPLE-STRUCTURED-LOCATION;VALUE=URI;X-ADDRESS=18100 Merriman Rd\, Livonia
 \, Michigan\, United States;X-APPLE-RADIUS=100;X-TITLE=Basilica of St. Mar
 y:geo:42.4188237,-83.35410830000001
END:VEVENT
BEGIN:VTIMEZONE
TZID:America/Detroit
X-LIC-LOCATION:America/Detroit
BEGIN:DAYLIGHT
DTSTART:20250309T030000
TZOFFSETFROM:-0500
TZOFFSETTO:-0400
TZNAME:EDT
END:DAYLIGHT
END:VTIMEZONE
END:VCALENDAR