BEGIN:VCALENDAR
VERSION:2.0
PRODID:-//wp-events-plugin.com//7.2.3.1//EN
TZID:America/Detroit
X-WR-TIMEZONE:America/Detroit
BEGIN:VEVENT
UID:35563@arabamerica.com
DTSTART;TZID=America/Detroit:20260220T171500
DTEND;TZID=America/Detroit:20260220T171500
DTSTAMP:20251216T154642Z
URL:https://www.arabamerica.com/events/downtown-seattle-iftar-dinner-for-c
 hristians-and-muslims/
SUMMARY:Downtown Seattle Iftar dinner for Christians and Muslims
DESCRIPTION:\nSEATTLE\, WA\nA dinner for Christians and Muslims to make fri
 ends and have meaningful conversation about life's biggest questions.\n\n\
 n\n\nChristianity and Islam are the world's biggest ideas and it is import
 ant that we have meaningful conversations and real friendships with one an
 other.\n\nJoin us for a night of tasty food and meaningful conversation af
 ter sunset hosted by Downtown Cornerstone Church and The Al-Ma'idah Initia
 tive. Come at 5:15pm so we can all be seated and ready to eat at sunset (5
 :41pm). The only programming for the evening will be dinner and conversati
 on at tables.\n\nParking is free and located next door at the garage off o
 f Clay Street underneath Bay Vista Condominiums (2821 2nd Ave.)\n\nFood is
  free and halal. Caterer to be determined.\n\nThe Al-Ma'idah Initiative is
  a Christian nonprofit organization that facilitates friendship and conver
 sation between Christians and Muslims. Learn more at al-maidah.org\n\nregi
 ster here\n\n\n
ATTACH;FMTTYPE=image/jpeg:https://www.arabamerica.com/wp-content/uploads/2
 025/12/Screenshot-2025-12-16-at-10.44.47-AM.png
LOCATION:Downtown Cornerstone Church\, 2816 1st Avenue\, Seattle\, WA\, 981
 21\, United States
GEO:47.616719;-122.351883
X-APPLE-STRUCTURED-LOCATION;VALUE=URI;X-ADDRESS=2816 1st Avenue\, Seattle\,
  WA\, 98121\, United States;X-APPLE-RADIUS=100;X-TITLE=Downtown Cornerston
 e Church:geo:47.616719,-122.351883
END:VEVENT
BEGIN:VTIMEZONE
TZID:America/Detroit
X-LIC-LOCATION:America/Detroit
BEGIN:STANDARD
DTSTART:20251102T010000
TZOFFSETFROM:-0400
TZOFFSETTO:-0500
TZNAME:EST
END:STANDARD
END:VTIMEZONE
END:VCALENDAR