BEGIN:VCALENDAR
VERSION:2.0
PRODID:-//wp-events-plugin.com//7.2.3.1//EN
TZID:America/Detroit
X-WR-TIMEZONE:America/Detroit
BEGIN:VEVENT
UID:34607@arabamerica.com
DTSTART;TZID=America/Detroit;VALUE=DATE:20250731
DTEND;TZID=America/Detroit;VALUE=DATE:20250804
DTSTAMP:20250617T075708Z
URL:https://www.arabamerica.com/events/drone-a-transmedia-theatre-project/
SUMMARY:DRONE: A Transmedia Theatre Project
DESCRIPTION:DETROIT\, MI\nJuly 31\, August 1-3\, 2025\nDRONE: A Transmedia 
 Theatre Project \nIn-person at the Detroit Public Theatre\n\nRegistration 
 Link Coming Soon\n\nDRONE\, by Joyce Award-winning playwright Andrea Assaf
 \, is a new play and transdisciplinary performance project integrating the
 atre\, live music\, emerging technologies\, and artistic containers for pu
 blic dialogue. It explores the drone as a metaphor for how we become desen
 sitized to daily violence (domestic and global)\, the question of Moral In
 jury\, and the effects of remote-control warfare on the human soul.\n\nAbo
 ut DRONE\n\nDRONE tells the story of a U.S. pilot who moves to Nevada for 
 a new job—and what that job does to him\, and his family. Set in Las Veg
 as\, the drone pilot’s story is juxtaposed with the poetic testimonies o
 f three Survivors\, based on the real-life testimonies of witnesses and su
 rvivors of U.S. drone strikes. As the pilot begins to hear the voices of T
 he Survivors\, and his mental health deteriorates\, he escapes more and mo
 re into the Las Vegas nightlife\, while his wife turns to faith for suppor
 t\, joining a local ministry. During a visit to the military base\, she en
 counters a group of protestors\, and a temple to the ancient Egyptian godd
 ess\, Sekhmet. As the play takes a turn toward tragedy\, we meet a host of
  characters\, including a retired Air Force General\, a Sex Worker\, a Pre
 acher\, and multiple Elvis impersonators.\n\nThe play is performed with li
 ve music\, intertwining songs from the U.S. South to Syria and Iran\, and 
 an immersive multimedia design.\n\nContent Warning: This performance conta
 ins text based on the actual testimonies of military drone strike survivor
 s and witnesses. The content includes descriptions of war\, death\, and vi
 olence\, which may be difficult for some audiences. We encourage self-care
  in your choice to attend performances.\n\nThis performance runs approxima
 tely two hours\, plus intermission and will be at the Detroit Public Theat
 re\, located at 3960 3rd Ave\, Detroit\, MI 48201.\n\n\n\nDRONE\, by Andre
 a Assaf\, is an Art2Action production. Early development was made possible
  with funding by the New England Foundation for the Arts (NEFA) National T
 heater Project (with lead funding from The Andrew W. Mellon Foundation and
  additional support from the Doris Duke Charitable Foundation)\; and the N
 ational Performance Network (NPN) Creation &amp\; Development Fund\, in pa
 rtnership with the Arab American National Museum\, Contemporary Arts Cente
 r (CAC) New Orleans\, Art2Action\, and NPN (the Creation &amp\; Developmen
 t Fund is supported by the Doris Duke Charitable Foundation\, the Andrew W
 . Mellon Foundation\, and the National Endowment for the Arts\, a federal 
 agency\; for more information\, visit: www.npnweb.org)\; the Network of En
 semble Theaters (NET) TEN exchange grant\, in partnership with ArtSpot Pro
 ductions\; and Alternate ROOTS Artistic Assistance grants.\n\nThe 2025 wor
 kshop production at the Detroit Public Theatre\, presented by the Arab Ame
 rican National Museum\, is made possible in part by the Joyce Foundation
 ’s 2024 Joyce Award.\n\nIn partnership with\n\n
ATTACH;FMTTYPE=image/jpeg:https://www.arabamerica.com/wp-content/uploads/2
 025/06/Screenshot-2025-06-17-at-10.54.05 AM.png
LOCATION:Detroit  Public Theater\, 3960 3rd Ave\, Detroit\, MI\, 48201\, Un
 ited States
GEO:42.347642;-83.066871
X-APPLE-STRUCTURED-LOCATION;VALUE=URI;X-ADDRESS=3960 3rd Ave\, Detroit\, MI
 \, 48201\, United States;X-APPLE-RADIUS=100;X-TITLE=Detroit  Public Theate
 r:geo:42.347642,-83.066871
END:VEVENT
BEGIN:VTIMEZONE
TZID:America/Detroit
X-LIC-LOCATION:America/Detroit
BEGIN:DAYLIGHT
DTSTART:20250309T030000
TZOFFSETFROM:-0500
TZOFFSETTO:-0400
TZNAME:EDT
END:DAYLIGHT
END:VTIMEZONE
END:VCALENDAR