BEGIN:VCALENDAR
VERSION:2.0
PRODID:-//wp-events-plugin.com//7.2.3.1//EN
TZID:America/Detroit
X-WR-TIMEZONE:America/Detroit
BEGIN:VEVENT
UID:31008@arabamerica.com
DTSTART;TZID=America/Detroit:20230713T210000
DTEND;TZID=America/Detroit:20230713T230000
DTSTAMP:20230510T172719Z
URL:https://www.arabamerica.com/events/e-a-c-c-presents-ahmed-al-kadri/
SUMMARY:E.A.C.C. Presents: Ahmed Al-kadri
DESCRIPTION:\n\nAustin\, TX\nAhmed Al-kadri is a Yemeni-American comedian b
 ased in LA. He was previously working as an Accountant but his immigrant p
 arents are forcing him to be a comedian. Most of his material is mined fro
 m his upbringing\, relatable situations\, and just some goofy fun. He star
 ted his career in 2016 taking an improv class at Dallas comedy House and h
 as been hooked ever since. He has performed in numerous improv\, sketch\, 
 and stand up comedy shows at his old stomping grounds. With his improv tro
 upe Sunglow\, headlined Dallas Comedy House on weekends and traveled acros
 s the country performing in various comedy festivals before moving to Los 
 Angeles in 2018 to pursue a career in Stand Up. Over the last year\, Ahmed
  has gained a following on Tik Tok and IG with some of his most notable wo
 rk such as "Roommates with Anxiety" \, "F-Boi Rehab"\, or "Arab at an Indi
 an Wedding" \; his was content featured on Buzzfeed and DankMemes. You may
  recognize him on Fox's Love Connection or “Liam” from the series “D
 avid Diamondhands” releasing this year.\n\n\n\n\n\n
ATTACH;FMTTYPE=image/jpeg:https://www.arabamerica.com/wp-content/uploads/2
 023/05/Screen-Shot-2023-05-10-at-1.25.23-PM.png
CATEGORIES:#comedy_club
LOCATION:East Austin Comedy Club\, 1303 East 4th Street\, Austin\, TX\, 787
 02\, United States
GEO:30.261996;-97.730135
X-APPLE-STRUCTURED-LOCATION;VALUE=URI;X-ADDRESS=1303 East 4th Street\, Aust
 in\, TX\, 78702\, United States;X-APPLE-RADIUS=100;X-TITLE=East Austin Com
 edy Club:geo:30.261996,-97.730135
END:VEVENT
BEGIN:VTIMEZONE
TZID:America/Detroit
X-LIC-LOCATION:America/Detroit
BEGIN:DAYLIGHT
DTSTART:20230312T030000
TZOFFSETFROM:-0500
TZOFFSETTO:-0400
TZNAME:EDT
END:DAYLIGHT
END:VTIMEZONE
END:VCALENDAR