BEGIN:VCALENDAR
VERSION:2.0
PRODID:-//wp-events-plugin.com//7.2.3.1//EN
TZID:America/Detroit
X-WR-TIMEZONE:America/Detroit
BEGIN:VEVENT
UID:32353@arabamerica.com
DTSTART;TZID=America/Detroit:20240321T190000
DTEND;TZID=America/Detroit:20240321T200000
DTSTAMP:20240229T030628Z
URL:https://www.arabamerica.com/events/early-celebration-arab-american-her
 itage-month/
SUMMARY:Early Celebration: Arab American Heritage Month
DESCRIPTION:NJ. Learn about Arab American Heritage Month which takes place 
 during the month of April!\n\nParticipants will enjoy music played on mult
 iple percussion and string instruments from around the Arab world.\n\nLear
 n about the history of each instrument and how they are made.\n\nThe audie
 nce will be invited to join in with rhythmic clapping\,\n\nword pronunciat
 ion\, line dancing\, and spontaneous questions.\n\nWith humor\, acrobatics
 \, articulation\, and masterful audience incorporation\, Karim will provid
 e an uplifting experience celebrating Arab and Muslim culture.\n\n This p
 rogram will be presented by native Egyptian Karim Nagi.\n\nRegistration is
  required.\n\nTo register call the library at 908-276-2451 or visit 548 Bo
 ulevard.\n\n&nbsp\;\n\nThis program has been made possible by funds from U
 nion County Office of Cultural &amp\; Heritage Affairs\, a partner of 
 the New Jersey State Council on the Arts.
ATTACH;FMTTYPE=image/jpeg:https://www.arabamerica.com/wp-content/uploads/2
 024/02/0-1.jpg
CATEGORIES:Arab American,Community,culture
LOCATION:Kenilworth Public Library\, 548 Boulevard\, Kenilworth\, NJ\, Unit
 ed States
GEO:40.676504;-74.290302
X-APPLE-STRUCTURED-LOCATION;VALUE=URI;X-ADDRESS=548 Boulevard\, Kenilworth\
 , NJ\, United States;X-APPLE-RADIUS=100;X-TITLE=Kenilworth Public Library:
 geo:40.676504,-74.290302
END:VEVENT
BEGIN:VTIMEZONE
TZID:America/Detroit
X-LIC-LOCATION:America/Detroit
BEGIN:DAYLIGHT
DTSTART:20240310T030000
TZOFFSETFROM:-0500
TZOFFSETTO:-0400
TZNAME:EDT
END:DAYLIGHT
END:VTIMEZONE
END:VCALENDAR