BEGIN:VCALENDAR
VERSION:2.0
PRODID:-//wp-events-plugin.com//7.2.3.1//EN
TZID:America/Detroit
X-WR-TIMEZONE:America/Detroit
BEGIN:VEVENT
UID:31605@arabamerica.com
DTSTART;TZID=America/Detroit:20230826T130000
DTEND;TZID=America/Detroit:20230826T150000
DTSTAMP:20230821T235644Z
URL:https://www.arabamerica.com/events/east-dearborn-downtown-walking-tour
 -3/
SUMMARY:East Dearborn Downtown Walking Tour
DESCRIPTION:Take a walk through the streets of historic East Dearborn with 
 a local guide as they introduce you to a variety of organizations and busi
 nesses that call this district home today. You will see historic architect
 ure\, innovative arts spaces and even a Smithsonian Affiliate Museum.\n\nW
 hether you’ve lived in the area your whole life or are visiting for the 
 first time\, this tour will provide you with a better understanding of Eas
 t Dearborn’s past and present and leave you excited for its future.
ATTACH;FMTTYPE=image/jpeg:https://www.arabamerica.com/wp-content/uploads/2
 023/08/Screen-Shot-2023-08-21-at-7.56.24-PM.png
CATEGORIES:Dearborn,walk
LOCATION:Haraz Coffee House\,  13810 Michigan Avenue\,  Dearborn\, MI\, 481
 26\, United States
GEO:42.321663;-83.178612
X-APPLE-STRUCTURED-LOCATION;VALUE=URI;X-ADDRESS= 13810 Michigan Avenue\,  D
 earborn\, MI\, 48126\, United States;X-APPLE-RADIUS=100;X-TITLE=Haraz Coff
 ee House:geo:42.321663,-83.178612
END:VEVENT
BEGIN:VTIMEZONE
TZID:America/Detroit
X-LIC-LOCATION:America/Detroit
BEGIN:DAYLIGHT
DTSTART:20230312T030000
TZOFFSETFROM:-0500
TZOFFSETTO:-0400
TZNAME:EDT
END:DAYLIGHT
END:VTIMEZONE
END:VCALENDAR