BEGIN:VCALENDAR
VERSION:2.0
PRODID:-//wp-events-plugin.com//7.2.3.1//EN
TZID:America/Detroit
X-WR-TIMEZONE:America/Detroit
BEGIN:VEVENT
UID:35085@arabamerica.com
DTSTART;TZID=America/Los_Angeles:20250909T110000
DTEND;TZID=America/Los_Angeles:20250909T160000
DTSTAMP:20250903T154451Z
URL:https://www.arabamerica.com/events/eat-to-support-gaza-families/
SUMMARY:Eat To Support Gaza Families
DESCRIPTION:CAMPBELL\, CA\n\n&nbsp\;\n\nNow is a critical and dangerous tim
 e for people in Gaza\, Palestine as they struggle to put food on their tab
 les and survive the heinous war against them. The United Nations has offic
 ially declared a famine in Gaza. Babies are dying from starvation and maln
 utrition. Our leaders are doing nothing\, but we must do more and we must 
 act now.\n\nJoin us for a fundraiser at Mountain Mike's Pizza between 11 A
 M - 4 PM on Tuesday\, Sept. 9 to stand with Gazan families and support a l
 ocal business.\n\n20% of sales will be sent directly to families that we h
 ave a direct relationship with in Gaza. Please RSVP using the QR code or a
 t the following link: Groupraise.com/events/310204\n\nAnd remember to ment
 ion that your there for the fundraiser: Gaza Families Fundraising Group
ATTACH;FMTTYPE=image/jpeg:https://www.arabamerica.com/wp-content/uploads/2
 025/09/eat_for_gaza.png
LOCATION:301 E Hamilton Ave\, 301 East Hamilton Avenue\, Campbell\, CA\, 95
 008\, United States
GEO:37.294629;-121.944535
X-APPLE-STRUCTURED-LOCATION;VALUE=URI;X-ADDRESS=301 East Hamilton Avenue\, 
 Campbell\, CA\, 95008\, United States;X-APPLE-RADIUS=100;X-TITLE=301 E Ham
 ilton Ave:geo:37.294629,-121.944535
END:VEVENT
BEGIN:VTIMEZONE
TZID:America/Los_Angeles
X-LIC-LOCATION:America/Los_Angeles
BEGIN:DAYLIGHT
DTSTART:20250309T030000
TZOFFSETFROM:-0800
TZOFFSETTO:-0700
TZNAME:PDT
END:DAYLIGHT
END:VTIMEZONE
END:VCALENDAR