BEGIN:VCALENDAR
VERSION:2.0
PRODID:-//wp-events-plugin.com//7.2.3.1//EN
TZID:America/Detroit
X-WR-TIMEZONE:America/Detroit
BEGIN:VEVENT
UID:35418@arabamerica.com
DTSTART;TZID=America/Detroit:20251203T190000
DTEND;TZID=America/Detroit:20251203T210000
DTSTAMP:20251118T015235Z
URL:https://www.arabamerica.com/events/echoes-of-resistance-revolutionary-
 sounds-from-palestine/
SUMMARY:Echoes of Resistance: Revolutionary Sounds from Palestine
DESCRIPTION:\n\nOverview\n\n\n\n\n\nJoin PYM and experience the revolutiona
 ry sounds and culture of Palestine through music\, art and performance.\n\
 n\n\n\nEchoes of Resistance: Revolutionary Sounds from Palestine\n\nRevolu
 tionary music has always been the soul of Palestinian resistance — a def
 iant echo of Sumud and an unyielding cry for freedom.\n\nJoin PYM at Widd
 i Catering Hall for Echoes of Resistance: Revolutionary Sounds from Pale
 stine\, an evening showcasing the rich heritage of Palestine through musi
 c\, art\, and performance. This program will feature a NYC-debut performan
 ce by the NYC Palestinian Youth Choir\, a PYM project that brings togeth
 er youth from the diaspora to revive and preserve Palestinian culture\, hi
 story\, and the spirit of resistance through music. From Palesitnian folk 
 songs that are over a century old to songs featuring poetry written in the
  60's and 70's\, the choir uses music as a tool for organizing\,\, educati
 on and connection\, remembering where we come from and reminding us of the
  path we're walking.\n\nWe’ll serve light refreshments and feature vendo
 rs\, art exhibitions\, a raffle\, and more! Join us for an evening of cult
 ure\, creativity\, and community as we immerse ourselves in the spirit of 
 revolution and our collective movement for liberation.\n\nAll proceeds fro
 m the evening will go towards the ongoing international campaign in p for 
 Gaza through Middle East Children’s Alliance.\n\nIf you’re facing any 
 financial challenges that make purchasing a ticket difficult\, please reac
 h out to us directly.\n\n\n\n\n\n
LOCATION:Widdi Catering Hall\, 5602 6th Ave\, Brooklyn\, New York\, 11220\,
  United States
GEO:40.640437;-74.01198
X-APPLE-STRUCTURED-LOCATION;VALUE=URI;X-ADDRESS=5602 6th Ave\, Brooklyn\, N
 ew York\, 11220\, United States;X-APPLE-RADIUS=100;X-TITLE=Widdi Catering 
 Hall:geo:40.640437,-74.01198
END:VEVENT
BEGIN:VTIMEZONE
TZID:America/Detroit
X-LIC-LOCATION:America/Detroit
BEGIN:STANDARD
DTSTART:20251102T010000
TZOFFSETFROM:-0400
TZOFFSETTO:-0500
TZNAME:EST
END:STANDARD
END:VTIMEZONE
END:VCALENDAR