BEGIN:VCALENDAR
VERSION:2.0
PRODID:-//wp-events-plugin.com//7.2.3.1//EN
TZID:America/Detroit
X-WR-TIMEZONE:America/Detroit
BEGIN:VEVENT
UID:33025@arabamerica.com
DTSTART;TZID=America/Detroit:20240616T120000
DTEND;TZID=America/Detroit:20240616T234500
DTSTAMP:20240612T051404Z
URL:https://www.arabamerica.com/events/eeid-adha-experience-in-new-york/
SUMMARY:Eeid-Adha Experience in New York
DESCRIPTION:12-hour celebration with Falsa music band in New York. Expect b
 arbeque\, hookah\, and networking. The event is indoor &amp\; outdoor.\n\n
 Join us for a 12-hour celebration with the Falsa music band in New York! E
 njoy BBQ\, hookah\, and networking in indoor and outdoor settings. Co-host
 ed by Hayat Life magazine and Barzakh Cafe &amp\; Bookstore\, this event p
 romises an unforgettable experience on June 16. Don't miss out!\n\nSunday\
 , June 16 · 12 - 11:59pm EDT\n\n&nbsp\;
ATTACH;FMTTYPE=image/jpeg:https://www.arabamerica.com/wp-content/uploads/2
 024/06/IMG_0779.jpeg
LOCATION:BARZAKH CAFÉ & Bookstore\, 147 Utica Avenue\, Brooklyn\, NY\, 112
 13\, United States
GEO:40.673792;-73.930493
X-APPLE-STRUCTURED-LOCATION;VALUE=URI;X-ADDRESS=147 Utica Avenue\, Brooklyn
 \, NY\, 11213\, United States;X-APPLE-RADIUS=100;X-TITLE=BARZAKH CAFÉ & B
 ookstore:geo:40.673792,-73.930493
END:VEVENT
BEGIN:VTIMEZONE
TZID:America/Detroit
X-LIC-LOCATION:America/Detroit
BEGIN:DAYLIGHT
DTSTART:20240310T030000
TZOFFSETFROM:-0500
TZOFFSETTO:-0400
TZNAME:EDT
END:DAYLIGHT
END:VTIMEZONE
END:VCALENDAR