BEGIN:VCALENDAR
VERSION:2.0
PRODID:-//wp-events-plugin.com//7.2.3.1//EN
TZID:America/Detroit
X-WR-TIMEZONE:America/Detroit
BEGIN:VEVENT
UID:31125@arabamerica.com
DTSTART;TZID=America/Detroit:20230826T120000
DTEND;TZID=America/Detroit:20230826T180000
DTSTAMP:20230524T013214Z
URL:https://www.arabamerica.com/events/egyptian-american-society-annual-fe
 stival/
SUMMARY:Egyptian American Society Annual Festival
DESCRIPTION:FOSTER CITY\, CA\n\n&nbsp\;\n\nEgyptian American Society Annual
  Festival
ATTACH;FMTTYPE=image/jpeg:https://www.arabamerica.com/wp-content/uploads/2
 023/05/https___cdn.evbuc_.com_images_515374539_1092409892253_1_original.jp
 eg
CATEGORIES:Arab,Arab American,Egypt,Egyptian,Egyptian
 Culture,Festival,Food
LOCATION:Leo J. Ryan Park\, 650 Shell Boulevard\, Foster City\, United Stat
 es
GEO:37.55685;-122.271747
X-APPLE-STRUCTURED-LOCATION;VALUE=URI;X-ADDRESS=650 Shell Boulevard\, Foste
 r City\, United States;X-APPLE-RADIUS=100;X-TITLE=Leo J. Ryan Park:geo:37.
 55685,-122.271747
END:VEVENT
BEGIN:VTIMEZONE
TZID:America/Detroit
X-LIC-LOCATION:America/Detroit
BEGIN:DAYLIGHT
DTSTART:20230312T030000
TZOFFSETFROM:-0500
TZOFFSETTO:-0400
TZNAME:EDT
END:DAYLIGHT
END:VTIMEZONE
END:VCALENDAR