BEGIN:VCALENDAR
VERSION:2.0
PRODID:-//wp-events-plugin.com//7.2.3.1//EN
TZID:America/Detroit
X-WR-TIMEZONE:America/Detroit
BEGIN:VEVENT
UID:34685@arabamerica.com
DTSTART;TZID=America/Detroit:20250730T191500
DTEND;TZID=America/Detroit:20250730T201500
DTSTAMP:20250702T125819Z
URL:https://www.arabamerica.com/events/egyptian-belly-dance-class-3/
SUMMARY:Egyptian Belly Dance Class
DESCRIPTION:VISALIA\, CA\n\n&nbsp\;\n\nJoin us for a fun and energetic Egyp
 tian belly dance class where you'll learn the ancient art of belly dancing
 !\n\nWelcome to our Egyptian Belly Dance Class!\n\nCome join us at Lisa Ma
 rie Alchemy Studio located at 400 W Caldwell Ave\, Suite B in Visalia for 
 a fun and energizing belly dance experience. Whether you're a beginner or 
 have some experience\, this class is perfect for anyone looking to learn t
 he art of Egyptian belly dancing. Our talented instructor Arturo will guid
 e you through basic movements\, techniques\, and choreography in a support
 ive and friendly environment. Get ready to shimmy\, shake\, and have a gre
 at time! Don't miss out on this opportunity to embrace the beauty and grac
 e of Egyptian belly dance. See you there! Contact Lisa Marie at 661-481-65
 61 for any questions of fee free payment alter\n\nGet Tickets Here
ATTACH;FMTTYPE=image/jpeg:https://www.arabamerica.com/wp-content/uploads/2
 025/07/Screenshot-2025-07-02-at-8.45.37-AM.png
CATEGORIES:Arab American,Community,culture,Music/Folk/World
LOCATION:400 W Caldwell Ave suite b\, 400 West Caldwell Avenue #suite b\, V
 isalia\, CA\, 93277\, United States
GEO:36.298747;-119.294585
X-APPLE-STRUCTURED-LOCATION;VALUE=URI;X-ADDRESS=400 West Caldwell Avenue #s
 uite b\, Visalia\, CA\, 93277\, United States;X-APPLE-RADIUS=100;X-TITLE=4
 00 W Caldwell Ave suite b:geo:36.298747,-119.294585
END:VEVENT
BEGIN:VTIMEZONE
TZID:America/Detroit
X-LIC-LOCATION:America/Detroit
BEGIN:DAYLIGHT
DTSTART:20250309T030000
TZOFFSETFROM:-0500
TZOFFSETTO:-0400
TZNAME:EDT
END:DAYLIGHT
END:VTIMEZONE
END:VCALENDAR