BEGIN:VCALENDAR
VERSION:2.0
PRODID:-//wp-events-plugin.com//7.2.3.1//EN
TZID:America/Detroit
X-WR-TIMEZONE:America/Detroit
BEGIN:VEVENT
UID:35172@arabamerica.com
DTSTART;TZID=America/Detroit:20251029T191500
DTEND;TZID=America/Detroit:20251029T201500
DTSTAMP:20250930T160200Z
URL:https://www.arabamerica.com/events/egyptian-belly-dance-class-5/
SUMMARY:Egyptian Belly Dance Class
DESCRIPTION:VISALIA\, CA\n\n\n\nWelcome to our Egyptian Belly Dance Class!\
 n\nCome join us at Lisa Marie Alchemy Studio located at 400 W Caldwell Ave
 \, Suite B in Visalia for a fun and energizing belly dance experience. Whe
 ther you're a beginner or have some experience\, this class is perfect for
  anyone looking to learn the art of Egyptian belly dancing. Our talented i
 nstructor Arturo will guide you through basic movements\, techniques\, and
  choreography in a supportive and friendly environment. Get ready to shimm
 y\, shake\, and have a great time! Don't miss out on this opportunity to e
 mbrace the beauty and grace of Egyptian belly dance. See you there! Contac
 t Lisa Marie at 661-481-6561 for any questions of fee free payment alterat
 ive.
ATTACH;FMTTYPE=image/jpeg:https://www.arabamerica.com/wp-content/uploads/2
 025/09/EGY.jpeg
LOCATION:400 W Caldwell Ave suite b\, 400 West Caldwell Avenue #suite b\, V
 isalia\, CA\, 93277\, United States
GEO:36.298747;-119.294585
X-APPLE-STRUCTURED-LOCATION;VALUE=URI;X-ADDRESS=400 West Caldwell Avenue #s
 uite b\, Visalia\, CA\, 93277\, United States;X-APPLE-RADIUS=100;X-TITLE=4
 00 W Caldwell Ave suite b:geo:36.298747,-119.294585
END:VEVENT
BEGIN:VTIMEZONE
TZID:America/Detroit
X-LIC-LOCATION:America/Detroit
BEGIN:DAYLIGHT
DTSTART:20250309T030000
TZOFFSETFROM:-0500
TZOFFSETTO:-0400
TZNAME:EDT
END:DAYLIGHT
END:VTIMEZONE
END:VCALENDAR