BEGIN:VCALENDAR
VERSION:2.0
PRODID:-//wp-events-plugin.com//7.2.3.1//EN
TZID:America/Detroit
X-WR-TIMEZONE:America/Detroit
BEGIN:VEVENT
UID:34281@arabamerica.com
DTSTART;TZID=America/Detroit:20250423T190000
DTEND;TZID=America/Detroit:20250423T200000
DTSTAMP:20250407T061624Z
URL:https://www.arabamerica.com/events/egyptian-belly-dance-class-at-art-d
 ance-studio-2/
SUMMARY:Egyptian Belly Dance Class At Art & Dance Studio
DESCRIPTION:SAN ANTONIO\, TX\n\nJoin us for an enchanting evening of Egypti
 an Style Belly Dance!\n\nAs always we learn the meaning and translation so
  we know what we are dancing to and why?\n\nLearn the art of Egyptian bell
 y dancing with our experienced instructor. This class is perfect for all s
 kill levels and will cover various techniques\, including hip circles\, ar
 m movements\, and footwork. Come ready to dance and have fun!\n\nGet ready
  to experience the mesmerizing art of belly dancing\, with a special focus
  on the unique Egyptian style.\n\nWhether you're a seasoned dancer or just
  looking to try something new\, this event is perfect for all levels.\n\nD
 on't miss out on this opportunity to immerse yourself in the beauty of Egy
 ptian culture through the art of belly dance. Get your hips moving and let
  the rhythm guide you!\nDrop in rate is $15 Class Package for the Month of
  Febraury $40 for $ classes
ATTACH;FMTTYPE=image/jpeg:https://www.arabamerica.com/wp-content/uploads/2
 025/04/Screenshot-2025-04-07-at-2.23.55 AM.png
LOCATION:Art & Dance Studio\, 14353-A Blanco Road\, San Antonio\, TX\, 7821
 6\, United States
GEO:29.573076;-98.516449
X-APPLE-STRUCTURED-LOCATION;VALUE=URI;X-ADDRESS=14353-A Blanco Road\, San A
 ntonio\, TX\, 78216\, United States;X-APPLE-RADIUS=100;X-TITLE=Art & Dance
  Studio:geo:29.573076,-98.516449
END:VEVENT
BEGIN:VTIMEZONE
TZID:America/Detroit
X-LIC-LOCATION:America/Detroit
BEGIN:DAYLIGHT
DTSTART:20250309T030000
TZOFFSETFROM:-0500
TZOFFSETTO:-0400
TZNAME:EDT
END:DAYLIGHT
END:VTIMEZONE
END:VCALENDAR