BEGIN:VCALENDAR
VERSION:2.0
PRODID:-//wp-events-plugin.com//7.2.3.1//EN
TZID:America/Detroit
X-WR-TIMEZONE:America/Detroit
BEGIN:VEVENT
UID:31022@arabamerica.com
DTSTART;TZID=America/Detroit:20230514T110000
DTEND;TZID=America/Detroit:20230514T160000
DTSTAMP:20230510T214419Z
URL:https://www.arabamerica.com/events/egyptian-cafes-mothers-day-brunch-o
 n-the-rooftop-patio/
SUMMARY:Egyptian Cafes Mothers Day Brunch on the Rooftop Patio
DESCRIPTION:Egyptian Cafe is opening its rooftop patio to elevate your Moth
 ers Day plans! Reserve your spot to the exclusive Mothers Day Brunch celeb
 ration offering hookahs\, breakfast/brunch menu\, mimosas and more!\n\nInv
 ite your mom\, your friends\, your mom's friends\, or your friends' moms a
 s long as everyone is 21+ WITH VALID ID.\n\nThe rooftop patio is LIMITED C
 APACITY so be sure you get your tickets early to ensure your spot.\n\n$25 
 Individual + brunch beverage - or - $75 Table (max 4 guests table) + brunc
 h pitcher\n\nFor the fashionably late\, $35 Door Cover if capacity allows.
ATTACH;FMTTYPE=image/jpeg:https://www.arabamerica.com/wp-content/uploads/2
 023/05/https___cdn.evbuc_.com_images_506221589_466338690077_1_original.jpe
 g
CATEGORIES:Arab American,Community,Mothers,Mothers' Day
END:VEVENT
BEGIN:VTIMEZONE
TZID:America/Detroit
X-LIC-LOCATION:America/Detroit
BEGIN:DAYLIGHT
DTSTART:20230312T030000
TZOFFSETFROM:-0500
TZOFFSETTO:-0400
TZNAME:EDT
END:DAYLIGHT
END:VTIMEZONE
END:VCALENDAR