BEGIN:VCALENDAR
VERSION:2.0
PRODID:-//wp-events-plugin.com//7.2.3.1//EN
TZID:America/Detroit
X-WR-TIMEZONE:America/Detroit
BEGIN:VEVENT
UID:34687@arabamerica.com
DTSTART;TZID=America/Detroit:20250801T200000
DTEND;TZID=America/Detroit:20250801T230000
DTSTAMP:20250702T131942Z
URL:https://www.arabamerica.com/events/egyptian-dance-show-featuring-orien
 tal-master-kareem-gad/
SUMMARY:Egyptian Dance Show Featuring Oriental Master KAREEM GAD
DESCRIPTION:ARLINGTON\, VA\n\n&nbsp\;\n\nEgyptian Dance Show Featuring Orie
 ntal Master KAREEM GAD\n\n&nbsp\;\n\n&#x1f39f\; Purchase Tickets here ($35
 ): https://almassraweya.com/upcoming-event/kareem-just-the-show/\n\nEventB
 rite tickets will not be accepted. Please register through the link above.
 \n\n&nbsp\;\n\nAbout the Show:\n\n&#x2728\; Kick off an unforgettable week
 end of culture\, artistry\, and rhythm with a spectacular gala show celebr
 ating the richness of Egyptian dance.&#x2728\;\n\n&#x1f5d3\; Friday\, Augu
 st 1\, 2025&#x1f3ad\; Doors open: 7:00 PM | Show begins: 8:00 PM\n\nJoin u
 s for a mesmerizing evening featuring:\n\n&#x1f31f\; Kareem GaD – Direct
  from Egypt\, bringing his signature style\, power\, and passion to the U.
 S. stage.&#x1f483\; Al Massraweya Folkloric Troupe – Performing traditio
 nal and contemporary folkloric works rooted in authentic Egyptian heritage
 .&#x1f3b6\; Plus a lineup of talented guest artists and dance performers f
 rom across the region.\n\nThis showcase is a celebration of the beauty and
  diversity of Egyptian dance — from earthy Saidi rhythms to elegant Orie
 ntal stylings and powerful ensemble performances.\n\nWhether you’re a da
 ncer\, enthusiast\, or simply love live cultural experiences\, this show w
 ill move your spirit and ignite your excitement for the workshops ahead.\n
 \n&#x1f39f\; Purchase Tickets here: https://almassraweya.com/upcoming-even
 t/kareem-just-the-show/
ATTACH;FMTTYPE=image/jpeg:https://www.arabamerica.com/wp-content/uploads/2
 025/07/Screenshot-2025-07-02-at-9.17.27-AM.png
CATEGORIES:Arab American,Community,culture
LOCATION:Reinsch Library\, 2807 North Glebe Road \, Arlington \, VA\, 22207
 \, United States
GEO:38.905713;-77.127241
X-APPLE-STRUCTURED-LOCATION;VALUE=URI;X-ADDRESS=2807 North Glebe Road \, Ar
 lington \, VA\, 22207\, United States;X-APPLE-RADIUS=100;X-TITLE=Reinsch L
 ibrary:geo:38.905713,-77.127241
END:VEVENT
BEGIN:VTIMEZONE
TZID:America/Detroit
X-LIC-LOCATION:America/Detroit
BEGIN:DAYLIGHT
DTSTART:20250309T030000
TZOFFSETFROM:-0500
TZOFFSETTO:-0400
TZNAME:EDT
END:DAYLIGHT
END:VTIMEZONE
END:VCALENDAR