BEGIN:VCALENDAR
VERSION:2.0
PRODID:-//wp-events-plugin.com//7.2.3.1//EN
TZID:America/Detroit
X-WR-TIMEZONE:America/Detroit
BEGIN:VEVENT
UID:34766@arabamerica.com
DTSTART;TZID=America/Detroit:20250731T190000
DTEND;TZID=America/Detroit:20250731T210000
DTSTAMP:20250715T041259Z
URL:https://www.arabamerica.com/events/egyptian-meditation-with-ra-and-nef
 ertiti/
SUMMARY:Egyptian Meditation with RA and Nefertiti
DESCRIPTION:NEW YORK\, NY\n\n&nbsp\;\n\nIn the Lineage of King Salomon\, we
  have strong connection with Egyptian Gods and Goddesses and its Magick!\n
 \nWhile the Sunlight is still strong\, we will invite the powerful goddess
  Nefertiti along with the Sun God RA\, to call upon Love\, Passion\, Beaut
 y and Abundance !\n\nWith the power of the ray of RA\, we will purify our 
 body and mind through his spiritual fire\, then invite Goddess Nefertiti t
 o awaken our Beauty and Passion within.\n\nThey will support us to build o
 ur new foundation and get ready to dive into the new adventure in life!\n\
 n&nbsp\;\n\n 	Early Bird price $40 untill July10th\n 	2nd Early Bird $45 u
 ntil July 20th\n 	General Admission $50\n\n&nbsp\;\n\nWe run fun events in
  NYC regularly\, come and experience the real magick with energy and metap
 hysical teaching!\n\n=.Some of the Lineups =\n\n&lt\; Monthly Kabbalah Med
 itation &gt\;\n\n&lt\; Angel Healing Circle &gt\;\n\n&lt\; Hermetic Full M
 oon Meditation &gt\;\n\n&lt\; Egyptian Ceremony &gt\;\n\n&lt\; Unicorn Med
 itation &gt\;\n\n&lt\; Cleansing Ceremony with Sun Goddess Amaterasu &gt\;
ATTACH;FMTTYPE=image/jpeg:https://www.arabamerica.com/wp-content/uploads/2
 025/07/egyptian_meditation.jpg
LOCATION:Yoko Maria Healing Center\, 20 W 20th Street\, New York\, NY\, 100
 11\, United States
GEO:40.740049;-73.992514
X-APPLE-STRUCTURED-LOCATION;VALUE=URI;X-ADDRESS=20 W 20th Street\, New York
 \, NY\, 10011\, United States;X-APPLE-RADIUS=100;X-TITLE=Yoko Maria Healin
 g Center:geo:40.740049,-73.992514
END:VEVENT
BEGIN:VTIMEZONE
TZID:America/Detroit
X-LIC-LOCATION:America/Detroit
BEGIN:DAYLIGHT
DTSTART:20250309T030000
TZOFFSETFROM:-0500
TZOFFSETTO:-0400
TZNAME:EDT
END:DAYLIGHT
END:VTIMEZONE
END:VCALENDAR