BEGIN:VCALENDAR
VERSION:2.0
PRODID:-//wp-events-plugin.com//7.2.3.1//EN
TZID:America/Detroit
X-WR-TIMEZONE:America/Detroit
BEGIN:VEVENT
UID:35031@arabamerica.com
DTSTART;TZID=America/Los_Angeles:20250907T190000
DTEND;TZID=America/Los_Angeles:20250907T213000
DTSTAMP:20250824T223320Z
URL:https://www.arabamerica.com/events/egyptian-nights/
SUMMARY:Egyptian Nights
DESCRIPTION:LOS ANGELES\, CA\n\n&nbsp\;\n\nJoin us for a magical evening ce
 lebrating the beauty\, grace\, and rhythm of Middle Eastern dance! Our Eg
 yptian Night showcase will feature talented belly dance performers\, dazzl
 ing costumes\, and captivating music that will transport you to an enchant
 ing world.\n\n&#x1f4c5\; Date: September 27\, 2025&#x1f556\; Showtime:
  7:30 PM sharp – please arrive by 7:00 PM to get seated\, enjoy music
  and\, if you wish\, order food or drinks before the performance begins.&#
 x1f4cd\; Location: Serra's Dine &amp\; Dance\n\nThe night begins with a 
 spectacular belly dance performance\, highlighting both traditional and mo
 dern styles. After the show\, the celebration continues—our DJ will keep
  the music going so you can join the fun on the dance floor.\n\nTo close t
 he evening\, we’ll honor our performers with a sweet treat—a slice of 
 cake for all guests.\n\n&#x1f39f\; Tickets: $20Ticket price does not inc
 lude dinner or drinks.\n\n&#x2728\; An evening of art\, movement\, music\
 , and joy—come experience the magic of Egyptian Night! &#x2728\;
ATTACH;FMTTYPE=image/jpeg:https://www.arabamerica.com/wp-content/uploads/2
 025/08/egyptian_nights.png
LOCATION:Serra's Dine & Dance\, 12449 Ventura Blvd\, Los Angeles\, CA\, 916
 04\, United States
GEO:34.14302;-118.404741
X-APPLE-STRUCTURED-LOCATION;VALUE=URI;X-ADDRESS=12449 Ventura Blvd\, Los An
 geles\, CA\, 91604\, United States;X-APPLE-RADIUS=100;X-TITLE=Serra's Dine
  & Dance:geo:34.14302,-118.404741
END:VEVENT
BEGIN:VTIMEZONE
TZID:America/Los_Angeles
X-LIC-LOCATION:America/Los_Angeles
BEGIN:DAYLIGHT
DTSTART:20250309T030000
TZOFFSETFROM:-0800
TZOFFSETTO:-0700
TZNAME:PDT
END:DAYLIGHT
END:VTIMEZONE
END:VCALENDAR