BEGIN:VCALENDAR
VERSION:2.0
PRODID:-//wp-events-plugin.com//7.2.3.1//EN
TZID:America/Detroit
X-WR-TIMEZONE:America/Detroit
BEGIN:VEVENT
UID:31364@arabamerica.com
DTSTART;TZID=America/Detroit:20230730T130000
DTEND;TZID=America/Detroit:20230730T150000
DTSTAMP:20230710T091521Z
URL:https://www.arabamerica.com/events/egyptian-puppetry-workshop-for-fami
 lies/
SUMMARY:Egyptian Puppetry Workshop for Families
DESCRIPTION:CAMBRIDGE\, MA\n\nJoin us as we delve into the enchanting world
  of Egyptian tales and legends. Discover the significance of the Aragoz\, 
 a traditional puppet\, and learn how it has preserved Egyptian culture thr
 oughout the ages. Through interactive activities and engaging discussions\
 , children will gain a deeper understanding of the rich cultural heritage 
 associated with the Aragoz.\n\nBut the excitement doesn't stop there! Ever
 y child will have the opportunity to create their very own Aragoz puppet. 
 Let your imagination run wild as you bring your puppet to life\, adding un
 ique touches and personal flair. Then\, prepare to shine on the stage as y
 ou and your puppet perform an original story that you create during the wo
 rkshop. It's your chance to become a puppeteer and captivate your audience
  with your storytelling skills!\n\nSo\, gather the whole family and join u
 s for an unforgettable Egyptian Puppetry Workshop. Get ready to be immerse
 d in the magic of this endangered cultural practice and explore the power 
 of stories. This workshop is open to families with children ages 6 and old
 er. Come and enjoy an afternoon of learning about Arab cultural practices\
 , Arabic\, and much much more at no cost to you! Snacks will be provided a
 nd you can go home with one of our Culture Crates!\n\nParents must be in a
 ttendence.\n\nhttps://www.culturecrate.org/workshops/event-one-5k8hk\n\nLi
 mited Seat available
ATTACH;FMTTYPE=image/jpeg:https://www.arabamerica.com/wp-content/uploads/2
 023/07/Screenshot-2023-07-10-at-12.01.31-PM.png
CATEGORIES:Community,culture,Music/Folk/World
LOCATION:Martin Trust Center for MIT Entrepreneurship\, 1 Amherst Street  \
 , Cambridge\, MA\, United States
GEO:42.361155;-71.084878
X-APPLE-STRUCTURED-LOCATION;VALUE=URI;X-ADDRESS=1 Amherst Street  \, Cambri
 dge\, MA\, United States;X-APPLE-RADIUS=100;X-TITLE=Martin Trust Center fo
 r MIT Entrepreneurship:geo:42.361155,-71.084878
END:VEVENT
BEGIN:VTIMEZONE
TZID:America/Detroit
X-LIC-LOCATION:America/Detroit
BEGIN:DAYLIGHT
DTSTART:20230312T030000
TZOFFSETFROM:-0500
TZOFFSETTO:-0400
TZNAME:EDT
END:DAYLIGHT
END:VTIMEZONE
END:VCALENDAR