BEGIN:VCALENDAR
VERSION:2.0
PRODID:-//wp-events-plugin.com//7.2.3.1//EN
TZID:America/Detroit
X-WR-TIMEZONE:America/Detroit
BEGIN:VEVENT
UID:30411@arabamerica.com
DTSTART;TZID=America/Detroit:20230701T130000
DTEND;TZID=America/Detroit:20230701T170000
DTSTAMP:20230206T164956Z
URL:https://www.arabamerica.com/events/eid-al-adha-family-party-6/
SUMMARY:Eid Al-Adha Family Party
DESCRIPTION:Dearborn\, MI\n1-5 p.m. ET Saturday\, July 1\, 2023\nEid Al-Adh
 a Family Party\nFREE with RSVP\nCelebrate Eid Al-Adha with the Arab Americ
 an National Museum! FREE and open to the public\, there will be fun activi
 ties for the whole family: exhibit scavenger hunt\, special Eid crafts\, a
 nd storytime! The Eid Party will also feature an Artisan Market with handm
 ade items by local Muslim artists and makers. Please join AANM for this jo
 yous and special holiday.\nFor more questions\, e-mail Fatima Al-Rasool at
  fal-rasool@accesscommunity.org
ATTACH;FMTTYPE=image/jpeg:https://www.arabamerica.com/wp-content/uploads/2
 023/02/Screen-Shot-2023-02-06-at-11.45.31-AM.png
CATEGORIES:culture,Religous
LOCATION:Arab American National Museum\, 13624 Michigan Avenue\, Dearborn\,
  MI\, 48126\, United States
GEO:42.322224;-83.176682
X-APPLE-STRUCTURED-LOCATION;VALUE=URI;X-ADDRESS=13624 Michigan Avenue\, Dea
 rborn\, MI\, 48126\, United States;X-APPLE-RADIUS=100;X-TITLE=Arab America
 n National Museum:geo:42.322224,-83.176682
END:VEVENT
BEGIN:VTIMEZONE
TZID:America/Detroit
X-LIC-LOCATION:America/Detroit
BEGIN:DAYLIGHT
DTSTART:20230312T030000
TZOFFSETFROM:-0500
TZOFFSETTO:-0400
TZNAME:EDT
END:DAYLIGHT
END:VTIMEZONE
END:VCALENDAR