BEGIN:VCALENDAR
VERSION:2.0
PRODID:-//wp-events-plugin.com//7.2.3.1//EN
TZID:America/Detroit
X-WR-TIMEZONE:America/Detroit
BEGIN:VEVENT
UID:34481@arabamerica.com
DTSTART;TZID=America/Detroit:20250608T150000
DTEND;TZID=America/Detroit:20250608T190000
DTSTAMP:20250602T140932Z
URL:https://www.arabamerica.com/events/eid-al-adha-festival-3/
SUMMARY:Eid Al Adha Festival
DESCRIPTION:BOSTON\, MA\n\nAsSalaamu Alaikum! Join the City of Boston Musli
 m Employee Resource Group and our partners at the Eid Al Adha Festival on
  Sunday\, June 8\, 2025\, from 3:00 PM to 7:00 PM at the Bruce C . Bol
 ling Building\, 2300 Washington Street\, Boston 02119! This event is fre
 e and open to the public.\n\nThe festival will include:\n\n 	Henna\, calli
 graphy\, and craft activities\n 	Cultural and food vendors\n 	Community re
 source tables\n 	Live performances\n 	Tea\, sweets\, and social time\n\nDo
 n’t miss out on this unforgettable celebration! All are welcome\, so bri
 ng your friends and family! We can’t wait to see you there! &#x1f319\;&#
 x2728\;
ATTACH;FMTTYPE=image/jpeg:https://www.arabamerica.com/wp-content/uploads/2
 025/06/Screenshot-2025-06-02-070844.png
CATEGORIES:Eid Festival
LOCATION:Bruce C. Bolling Municipal Building\, 2300 Washington St.\, Boston
 \, MA\, 02119\, United States
GEO:42.33012;-71.08382
X-APPLE-STRUCTURED-LOCATION;VALUE=URI;X-ADDRESS=2300 Washington St.\, Bosto
 n\, MA\, 02119\, United States;X-APPLE-RADIUS=100;X-TITLE=Bruce C. Bolling
  Municipal Building:geo:42.33012,-71.08382
END:VEVENT
BEGIN:VTIMEZONE
TZID:America/Detroit
X-LIC-LOCATION:America/Detroit
BEGIN:DAYLIGHT
DTSTART:20250309T030000
TZOFFSETFROM:-0500
TZOFFSETTO:-0400
TZNAME:EDT
END:DAYLIGHT
END:VTIMEZONE
END:VCALENDAR