BEGIN:VCALENDAR
VERSION:2.0
PRODID:-//wp-events-plugin.com//7.2.3.1//EN
TZID:America/Detroit
X-WR-TIMEZONE:America/Detroit
BEGIN:VEVENT
UID:34509@arabamerica.com
DTSTART;TZID=America/Detroit:20250604T120000
DTEND;TZID=America/Detroit:20250605T200000
DTSTAMP:20250602T212103Z
URL:https://www.arabamerica.com/events/eid-al-adha-henna-party/
SUMMARY:Eid Al-Adha Henna Party
DESCRIPTION:\n\n\nBROOKLYN\, NY\n\n&nbsp\;\nLet's celebrate Eid Al-Adha wit
 h beautiful henna designs\, music\, and good vibes at our Henna Party!\n\n
 \n\n\n\n\n\n\n\n\n\n\nWelcome to the Eid Al-Adha Henna Party!\n\nCome join
  us for a fun-filled evening of intricate henna designs and great company.
  The event will be held at 360 39th St\, Brooklyn NY so make sure to mark
  your calendars!\n\nWhether you're a henna enthusiast or just looking to c
 elebrate Eid Al-Adha in style\, this party is the perfect place to be. Our
  talented henna artists will be ready to adorn your hands with beautiful d
 esigns that will surely make you stand out.\n\nDon't miss out on this oppo
 rtunity to enjoy a traditional celebration with a modern twist. Grab your 
 friends and family\, and get ready to have a blast at the Eid Al-Adha Henn
 a Party! $13 downpayment required. Additional fees vary depending on your 
 henna styles.\n\n\n\n\n\n\nPlease note on June 4th we will start at 3p.m. 
 Please go to www.themuslimahcentrellc.com for me details and more services
  offered. **YOUR $13 IS A DOWNPAYMENT FOR YOUR HENNA AND SPOT. Please call
  347-641-1816 or complete form on site to pic your day and time slot.\n\n\
 n\n\n\n\n\n
ATTACH;FMTTYPE=image/jpeg:https://www.arabamerica.com/wp-content/uploads/2
 025/06/eid_henna-party.png
LOCATION:360 39th St\, 360 39th Street\, Brooklyn\, NY\, 11232\, United Sta
 tes
GEO:40.652919;-74.006955
X-APPLE-STRUCTURED-LOCATION;VALUE=URI;X-ADDRESS=360 39th Street\, Brooklyn\
 , NY\, 11232\, United States;X-APPLE-RADIUS=100;X-TITLE=360 39th St:geo:40
 .652919,-74.006955
END:VEVENT
BEGIN:VTIMEZONE
TZID:America/Detroit
X-LIC-LOCATION:America/Detroit
BEGIN:DAYLIGHT
DTSTART:20250309T030000
TZOFFSETFROM:-0500
TZOFFSETTO:-0400
TZNAME:EDT
END:DAYLIGHT
END:VTIMEZONE
END:VCALENDAR