BEGIN:VCALENDAR
VERSION:2.0
PRODID:-//wp-events-plugin.com//7.2.3.1//EN
TZID:America/Detroit
X-WR-TIMEZONE:America/Detroit
BEGIN:VEVENT
UID:34482@arabamerica.com
DTSTART;TZID=America/Detroit:20250607T193000
DTEND;TZID=America/Detroit:20250607T200000
DTSTAMP:20250602T141509Z
URL:https://www.arabamerica.com/events/eid-al-haha-a-stand-up-comedy-show/
SUMMARY:Eid-Al-HaHa: A Stand-Up Comedy Show
DESCRIPTION:Oak Park\, IL\n\nWelcome to Eid-Al-HaHa: A Stand-Up Comedy Sho
 w at Madison Street Theater! Get ready to laugh your socks off on June 
 7\, 2025 at 8:30 PM (Central Time). Join us for a night full of hilarious
  jokes and good vibes. Don't miss out on the chance to enjoy top-notch com
 edy in person. Grab your friends and family for a fantastic evening of lau
 ghter. See you there!
ATTACH;FMTTYPE=image/jpeg:https://www.arabamerica.com/wp-content/uploads/2
 025/06/Screenshot-2025-06-02-071441.png
CATEGORIES:Eid Al-Adha
LOCATION:Madison Street Theater\, 1010 Madison Street\, Oak Park\, IL\, 603
 02\, United States
GEO:41.879853;-87.800424
X-APPLE-STRUCTURED-LOCATION;VALUE=URI;X-ADDRESS=1010 Madison Street\, Oak P
 ark\, IL\, 60302\, United States;X-APPLE-RADIUS=100;X-TITLE=Madison Street
  Theater:geo:41.879853,-87.800424
END:VEVENT
BEGIN:VTIMEZONE
TZID:America/Detroit
X-LIC-LOCATION:America/Detroit
BEGIN:DAYLIGHT
DTSTART:20250309T030000
TZOFFSETFROM:-0500
TZOFFSETTO:-0400
TZNAME:EDT
END:DAYLIGHT
END:VTIMEZONE
END:VCALENDAR