BEGIN:VCALENDAR
VERSION:2.0
PRODID:-//wp-events-plugin.com//7.2.3.1//EN
TZID:America/Detroit
X-WR-TIMEZONE:America/Detroit
BEGIN:VEVENT
UID:34503@arabamerica.com
DTSTART;TZID=America/Detroit:20250607T220000
DTEND;TZID=America/Detroit:20250608T040000
DTSTAMP:20250602T202649Z
URL:https://www.arabamerica.com/events/eid-party/
SUMMARY:Eid Party
DESCRIPTION:QUEENS\, NY\n\n\nCelebrate Eid in style at Amadeus Nightclub! B
 ring your best moves and dress to impress. Let’s make this Eid one to re
 member! #Eid\n\n\n\n\n\n\n\n\n\n\n\n\n\n\n\n
ATTACH;FMTTYPE=image/jpeg:https://www.arabamerica.com/wp-content/uploads/2
 025/06/Screenshot-2025-06-02-at-4.27.59 PM.png
LOCATION:Amadeus Nightclub\, 79-51 Albion Ave\, Queens\, NY\, 11373\, Unite
 d States
GEO:40.739553;-73.884324
X-APPLE-STRUCTURED-LOCATION;VALUE=URI;X-ADDRESS=79-51 Albion Ave\, Queens\,
  NY\, 11373\, United States;X-APPLE-RADIUS=100;X-TITLE=Amadeus Nightclub:g
 eo:40.739553,-73.884324
END:VEVENT
BEGIN:VTIMEZONE
TZID:America/Detroit
X-LIC-LOCATION:America/Detroit
BEGIN:DAYLIGHT
DTSTART:20250309T030000
TZOFFSETFROM:-0500
TZOFFSETTO:-0400
TZNAME:EDT
END:DAYLIGHT
END:VTIMEZONE
END:VCALENDAR