BEGIN:VCALENDAR
VERSION:2.0
PRODID:-//wp-events-plugin.com//7.2.3.1//EN
TZID:America/Detroit
X-WR-TIMEZONE:America/Detroit
BEGIN:VEVENT
UID:36236@arabamerica.com
DTSTART;TZID=America/Los_Angeles:20260710T210000
DTEND;TZID=America/Los_Angeles:20260711T020000
DTSTAMP:20260422T015925Z
URL:https://www.arabamerica.com/events/el-7hara-arabic-global-dance-party-
 dj-juicy-baklawa-dj-ahmed/
SUMMARY:EL 7HARA: Arabic Global Dance Party (DJ Juicy Baklawa + DJ Ahmed)
DESCRIPTION:\nOverview\n\n\n\n\n\nEL 7HARA | DJ Juicy Baklawa + DJ Ahmed | 
 أحلى حفلة رقص عربي عالمية!\n\n\n\n\n\nEL 7HARA: Arabi
 c Global Dance Party\nGet ready to vibe and hizz at EL 7HARA\, the ultimat
 e Arabic global dance party! Join us on Friday\, July 10 at El Rio for an 
 unforgettable night with the Bay Area's own DJ Juicy Baklawa and DJ Ahmed 
 spinning your favorite Arabic beats and international hits.\n\nProceeds fr
 om ticket sales go to humanitarian fundraising for Salam Charity.\n\n 	Hum
 anitarian Deployment - Lebanon | September 2026\n 	Humanitarian Deployment
  - Jordan | September 2026\n\n\n\n\n\n\n\n\n\n\n\nRead less\n
ATTACH;FMTTYPE=image/jpeg:https://www.arabamerica.com/wp-content/uploads/2
 026/04/EL7.webp
LOCATION:El Rio\, 3158 Mission Street\, San Francisco \, CA\, United States
GEO:37.746805;-122.41944
X-APPLE-STRUCTURED-LOCATION;VALUE=URI;X-ADDRESS=3158 Mission Street\, San F
 rancisco \, CA\, United States;X-APPLE-RADIUS=100;X-TITLE=El Rio:geo:37.74
 6805,-122.41944
END:VEVENT
BEGIN:VTIMEZONE
TZID:America/Los_Angeles
X-LIC-LOCATION:America/Los_Angeles
BEGIN:DAYLIGHT
DTSTART:20260308T030000
TZOFFSETFROM:-0800
TZOFFSETTO:-0700
TZNAME:PDT
END:DAYLIGHT
END:VTIMEZONE
END:VCALENDAR