BEGIN:VCALENDAR
VERSION:2.0
PRODID:-//wp-events-plugin.com//7.2.3.1//EN
TZID:America/Detroit
X-WR-TIMEZONE:America/Detroit
BEGIN:VEVENT
UID:32298@arabamerica.com
DTSTART;TZID=America/Detroit:20240224T110000
DTEND;TZID=America/Detroit:20240225T180000
DTSTAMP:20240220T205909Z
URL:https://www.arabamerica.com/events/el-souq-ramadan-eid-pop-up/
SUMMARY:El Souq Ramadan & Eid Pop-Up
DESCRIPTION:\n\nEl Souq Ramadan &amp\; Eid Pop-Up\n\nJoin us for the launch
  of El Souq NYC on Feb 24-25 at 31 East 17th Street\, New York\, NY 10003.
  El Souq will feature over 30 vendors\, that will include apparel\, home d
 ecor\, accessories\, health and beauty care products\, delicious food\, co
 ffee and chai! We will also be featuring Prints for Palestine and Art for 
 Sudan with proceeds from the sale of art prints going to HEAL Palestine an
 d the Sudanese American Physicians Association (SAPA). Bring your tatreez 
 supplies and join Lina Barakawi of Lina's Thobe for tatreez workshops and 
 a tatreez circle one day only on Feb 24. Don't have your own tatreez suppl
 ies? Not to worry\, kits will be available for sale. Advanced tickets will
  need to be purchased separately for the tatreez workshop through this Eve
 ntbrite page.\n\nTickets to attend El Souq are not required but strongly e
 ncouraged so that we can optimize crowd flow. First 100 visitors on each d
 ay will receive a custom El Souq canvas tote! Come early to receive your t
 ote and avoid the crowds.\n\nLook forward to seeing you at El Souq!
ATTACH;FMTTYPE=image/jpeg:https://www.arabamerica.com/wp-content/uploads/2
 024/02/Screen-Shot-2024-02-20-at-8.54.44-AM.png
CATEGORIES:Arab American,Community,culture
END:VEVENT
BEGIN:VTIMEZONE
TZID:America/Detroit
X-LIC-LOCATION:America/Detroit
BEGIN:STANDARD
DTSTART:20231105T010000
TZOFFSETFROM:-0400
TZOFFSETTO:-0500
TZNAME:EST
END:STANDARD
END:VTIMEZONE
END:VCALENDAR