BEGIN:VCALENDAR
VERSION:2.0
PRODID:-//wp-events-plugin.com//7.2.3.1//EN
TZID:America/Detroit
X-WR-TIMEZONE:America/Detroit
BEGIN:VEVENT
UID:32124@arabamerica.com
DTSTART;TZID=America/Detroit:20240219T200000
DTEND;TZID=America/Detroit:20240219T200000
DTSTAMP:20240123T145541Z
URL:https://www.arabamerica.com/events/elyanna-the-elyanna-tour-2/
SUMMARY:Elyanna -The Elyanna Tour
DESCRIPTION:[caption id="attachment_243871" align="alignnone" width="300"] 
 The Elyanna Tour poster[/caption]\n\n&nbsp\;\n\nSAN FRANCISCO\, CALIFORNIA
 \n\nNo matter what lines\, borders\, or boundaries seemingly separate us\,
  songs bring us back together. Elyanna unites listeners worldwide around a
  sizzling signature style steeped in Arabic music\, pop\, and R&amp\;B. Si
 nging in Arabic and English\, the Palestinian-Chilean singer\, songwriter\
 , and performer instantly enchants with soul and spirit. Growing up in Naz
 areth\, she discovered her calling early on. At just six-years-old\, she o
 ften donned her mom's heels and black coat and performed in front of the m
 irror. One day\, her mother and siblings caught her to which she responded
 \, "You don't even know what I'm capable of doing yet." Soon after\, the
  budding talent practiced daily with her older brother Feras who played pi
 ano and penned songs of his own. She regularly shut down talent shows and 
 even practiced for photo shoots. At just 15-years-old\, she landed on the 
 radar of GRAMMY® Award-winning singer\, songwriter\, and MAGIC! frontman 
 Nasri Atweh [Justin Bieber\, Pitbull\, Chris Brown]. Nasri introduced her 
 to Lebanese-Canadian star Massari and powerhouse manager\, SAL&amp\;CO Fou
 nder\, and Universal Arabic Music C.E.O. Wassim "Sal" Slaiby. Following a 
 series of buzzing releases\, she made waves internationally with the self-
 titled Elyanna EP in 2020\, boasting fan favorites such as "Ana Lahale" 
 [with Massari]\, racking up 14.4 million Spotify streams. After amassing 1
 00 million global streams and earning acclaim from Vogue Middle East\, C
 osmopolitan Middle East\, GQ Middle East\, and more\, she perfects this v
 ision on a series of singles and her forthcoming 2022 debut for Universal 
 Arabic Music led by "Ghareeb Alay.\n\n&nbsp\;
ATTACH;FMTTYPE=image/jpeg:https://www.arabamerica.com/wp-content/uploads/2
 024/01/The-Elyanna-Tour-Promo-Poster-2024-01-23-at-10.07.58-AM.png
LOCATION:The Independant\, 628 Divisadero St\, San Francisco\, CA\, 94117\,
  United States
GEO:37.775536;-122.437656
X-APPLE-STRUCTURED-LOCATION;VALUE=URI;X-ADDRESS=628 Divisadero St\, San Fra
 ncisco\, CA\, 94117\, United States;X-APPLE-RADIUS=100;X-TITLE=The Indepen
 dant:geo:37.775536,-122.437656
END:VEVENT
BEGIN:VTIMEZONE
TZID:America/Detroit
X-LIC-LOCATION:America/Detroit
BEGIN:STANDARD
DTSTART:20231105T010000
TZOFFSETFROM:-0400
TZOFFSETTO:-0500
TZNAME:EST
END:STANDARD
END:VTIMEZONE
END:VCALENDAR