BEGIN:VCALENDAR
VERSION:2.0
PRODID:-//wp-events-plugin.com//7.2.3.1//EN
TZID:America/Detroit
X-WR-TIMEZONE:America/Detroit
BEGIN:VEVENT
UID:31020@arabamerica.com
DTSTART;TZID=America/Detroit:20230521T140000
DTEND;TZID=America/Detroit:20230521T160000
DTSTAMP:20230510T212728Z
URL:https://www.arabamerica.com/events/emblem-of-a-civilization-prologue-t
 o-the-art-of-arabic-islamic-calligraphy/
SUMMARY:Emblem of a Civilization: Prologue to the Art of Arabic/Islamic Cal
 ligraphy
DESCRIPTION:Join us for a special Sunday lecture as Master Calligrapher\, N
 ihad Dukhan explores the history\, development\, techniques and styles of 
 the art of Arabic calligraphy. Dukhan will also touch on the philosophical
  aspect of the art form\, and its intimate relationship to Qur’anic writ
 ing before embarking on an aesthetic appreciation of its intricate geometr
 y\, rhythm\, and visual impact.\n\nDukhan will present on the techniques f
 or Arabic calligraphy writing\, including the tools to cut and trim the re
 ed pen\, the ink\, the inkwell with natural-silk leeqa and the carefully-p
 repared classical Arabic calligraphy (muqahhar) paper. The extraordinary m
 aster-pupil relationship in teaching/learning the art\, as well as the cal
 ligraphic Ijazah\, are both highlighted.\n\nThe presentation includes nume
 rous examples of different styles of calligraphy from diverse periods and 
 geographical regions.\n\nThis lecture is co-sponsored by the Department of
  Music\, ISAC\, The Middle East Music Ensemble\, the Reva and David Logan 
 Center for the Arts\, and the Old Town School of Folk Music.\n\nSculpting 
 in Two Dimensions: Arabic Calligraphy by Nihad Dukhan is on view in the So
 uth Cases of the Logan Center from May 1 through May 31\, 2023.
ATTACH;FMTTYPE=image/jpeg:https://www.arabamerica.com/wp-content/uploads/2
 023/05/https___cdn.evbuc_.com_images_506874869_350534175451_1_original.jpe
 g
LOCATION:Institute for the Study of Ancient Cultures of the University of C
 hicago\, 1155 E. 58th St. \, Chicago\, IL \, 60637\, United States
GEO:41.789242;-87.597491
X-APPLE-STRUCTURED-LOCATION;VALUE=URI;X-ADDRESS=1155 E. 58th St. \, Chicago
 \, IL \, 60637\, United States;X-APPLE-RADIUS=100;X-TITLE=Institute for th
 e Study of Ancient Cultures of the University of Chicago:geo:41.789242,-87
 .597491
END:VEVENT
BEGIN:VTIMEZONE
TZID:America/Detroit
X-LIC-LOCATION:America/Detroit
BEGIN:DAYLIGHT
DTSTART:20230312T030000
TZOFFSETFROM:-0500
TZOFFSETTO:-0400
TZNAME:EDT
END:DAYLIGHT
END:VTIMEZONE
END:VCALENDAR