BEGIN:VCALENDAR
VERSION:2.0
PRODID:-//wp-events-plugin.com//7.2.3.1//EN
TZID:America/Detroit
X-WR-TIMEZONE:America/Detroit
BEGIN:VEVENT
UID:35028@arabamerica.com
DTSTART;TZID=America/New_York:20250903T083000
DTEND;TZID=America/New_York:20250903T160000
DTSTAMP:20250821T175741Z
URL:https://www.arabamerica.com/events/emergency-advocacy-day-on-capitol-h
 ill-join-us-september-3rd-2/
SUMMARY:EMERGENCY ADVOCACY DAY ON CAPITOL HILL — JOIN US SEPTEMBER 3RD!
DESCRIPTION:To Our Syrian American Community and Allies\,\n\n&nbsp\;\n\nThe
  Syrian American Council (SAC)\, in partnership with our allies and coalit
 ion partners\, American Coalition for Syria\, Syrian American Alliance for
  Peace &amp\; Prosperity SAAPP &amp\; Citizens for a Secure and Safe Ameri
 ca\, is calling on all Syrian Americans and friends of Syria to join us fo
 r an Emergency Advocacy Day on Tuesday\, September 3rd in Washington\, D.C
 .\, as the U.S. House of Representatives prepares to debate and vote on th
 e FY 2026 National Defense Authorization Act (NDAA) — a must-pass bill t
 hat shapes U.S. defense and foreign policy\, including measures directly a
 ffecting Syria.\n\n&nbsp\;\n\nThis is a critical moment in our collective 
 fight for justice\, dignity\, and a free future for Syria — and a chance
  for our community to directly influence U.S. policy through meaningful pr
 esence and unified advocacy.\n\n&nbsp\;\n\nWe now have a bipartisan bill (
 H.R. 3941) with over 10 co-sponsors that would fully repeal the Caesar Act
  sanctions — a major milestone in our advocacy. But the fight is not ove
 r. Just last month\, a competing bill (H.R. 4427) advanced through the Hou
 se Financial Services Committee that expands and extends the Caesar sancti
 ons for another two years.\n\n&nbsp\;\n\nWe are grateful to our partners i
 n this effort — *the American Coalition for Syria\, the Syrian American 
 Alliance for Peace and Prosperity\, and Citizens for a Safe and Secure Ame
 rica.\n\n&nbsp\;\n\nAs part of the day’s events\, we are honored to host
  a Special Luncheon featuring Rep. Joe Wilson\, a longtime voice in Congre
 ss on U.S. policy toward Syria. This will be a unique opportunity to hear 
 directly from a key legislator and show our collective support for ending 
 sanctions that harm the Syrian people.\n\n&nbsp\;\n\nLet’s show Congress
  that our community is united and determined to end destructive sanctions.
  Together\, we can push for policies that give a post-Assad Syria the chan
 ce to rebuild\, heal\, and thrive.\n\n&nbsp\;\n\nRSVP now and bring others
 —Syria’s future depends on it.\n\n&nbsp\;\n\n— Syrian American Counc
 il\n\nIn partnership with:\n\n— The Syrian American Alliance for Peace a
 nd Prosperity\n\n— The American Coalition for Syria\n\n— Citizens for 
 a Secure and Safe America (C4SSA)
ATTACH;FMTTYPE=image/jpeg:https://www.arabamerica.com/wp-content/uploads/2
 025/08/Screenshot-2025-08-21-at-12.53.05-PM.png
LOCATION:The United States Capitol\, First St. SE Washington\, Washington\,
  DC\, 20004\, United States
GEO:38.887951;-77.005937
X-APPLE-STRUCTURED-LOCATION;VALUE=URI;X-ADDRESS=First St. SE Washington\, W
 ashington\, DC\, 20004\, United States;X-APPLE-RADIUS=100;X-TITLE=The Unit
 ed States Capitol:geo:38.887951,-77.005937
END:VEVENT
BEGIN:VTIMEZONE
TZID:America/New_York
X-LIC-LOCATION:America/New_York
BEGIN:DAYLIGHT
DTSTART:20250309T030000
TZOFFSETFROM:-0500
TZOFFSETTO:-0400
TZNAME:EDT
END:DAYLIGHT
END:VTIMEZONE
END:VCALENDAR