BEGIN:VCALENDAR
VERSION:2.0
PRODID:-//wp-events-plugin.com//7.2.3.1//EN
TZID:America/Detroit
X-WR-TIMEZONE:America/Detroit
BEGIN:VEVENT
UID:35190@arabamerica.com
DTSTART;TZID=America/Detroit:20251003T180000
DTEND;TZID=America/Detroit:20251003T180000
DTSTAMP:20251001T163841Z
URL:https://www.arabamerica.com/events/emgage-national-gala-united-in-our-
 journey-forward/
SUMMARY:Emgage National Gala: United in Our Journey Forward
DESCRIPTION:The Emgage National Gala will bring together passionate changem
 akers\, influential keynote speakers\, and our vibrant dedicated community
  to uplift Muslim American voices. Expect powerful stories\, meaningful co
 nnections\, and exclusive insights into our 2024 milestones and the critic
 al initiatives ahead.\n\nWith your support\, we can continue building a fu
 ture where Muslim Americans are empowered\, engaged\, and represented. Ma
 ke an impact and become a sponsor today! Click here to see our full list 
 of sponsorship packages. Your generosity will help make this event possibl
 e and strengthen our mission for years to come.\n\n&nbsp\;\n\nRegister Her
 e
ATTACH;FMTTYPE=image/jpeg:https://www.arabamerica.com/wp-content/uploads/2
 025/10/EMGAGE-LOGO-FINAL.png
LOCATION:Capital One Hall\, 7750 Capital One Tower Rd\, Tysons\, VA\, 22102
 \, United States
GEO:38.925355;-77.211502
X-APPLE-STRUCTURED-LOCATION;VALUE=URI;X-ADDRESS=7750 Capital One Tower Rd\,
  Tysons\, VA\, 22102\, United States;X-APPLE-RADIUS=100;X-TITLE=Capital On
 e Hall:geo:38.925355,-77.211502
END:VEVENT
BEGIN:VTIMEZONE
TZID:America/Detroit
X-LIC-LOCATION:America/Detroit
BEGIN:DAYLIGHT
DTSTART:20250309T030000
TZOFFSETFROM:-0500
TZOFFSETTO:-0400
TZNAME:EDT
END:DAYLIGHT
END:VTIMEZONE
END:VCALENDAR