BEGIN:VCALENDAR
VERSION:2.0
PRODID:-//wp-events-plugin.com//7.2.3.1//EN
TZID:America/Detroit
X-WR-TIMEZONE:America/Detroit
BEGIN:VEVENT
UID:34404@arabamerica.com
DTSTART;TZID=America/Detroit:20250517T170000
DTEND;TZID=America/Detroit:20250517T190000
DTSTAMP:20250513T172245Z
URL:https://www.arabamerica.com/events/emgage-new-york-gala-united-in-our-
 journey-forward/
SUMMARY:Emgage New York Gala United in Our Journey Forward
DESCRIPTION:RSVP: https://secure.everyaction.com/Kuc5LTzS5ke_p0ULuIZaxQ2
ATTACH;FMTTYPE=image/jpeg:https://www.arabamerica.com/wp-content/uploads/2
 025/05/Screenshot-2025-05-13-at-12.20.29 PM.png
CATEGORIES:#arabic,Arab,Arab
 American,Community,culture,Discussion,Food,Music/Folk/World
LOCATION:Midtown Loft and Terrace\, 267 5th Ave\, New York City \, New York
  \, 10016\, United States
GEO:40.745285;-73.986421
X-APPLE-STRUCTURED-LOCATION;VALUE=URI;X-ADDRESS=267 5th Ave\, New York City
  \, New York \, 10016\, United States;X-APPLE-RADIUS=100;X-TITLE=Midtown L
 oft and Terrace:geo:40.745285,-73.986421
END:VEVENT
BEGIN:VTIMEZONE
TZID:America/Detroit
X-LIC-LOCATION:America/Detroit
BEGIN:DAYLIGHT
DTSTART:20250309T030000
TZOFFSETFROM:-0500
TZOFFSETTO:-0400
TZNAME:EDT
END:DAYLIGHT
END:VTIMEZONE
END:VCALENDAR