BEGIN:VCALENDAR
VERSION:2.0
PRODID:-//wp-events-plugin.com//7.2.3.1//EN
TZID:America/Detroit
X-WR-TIMEZONE:America/Detroit
BEGIN:VEVENT
UID:35458@arabamerica.com
DTSTART;TZID=America/Detroit:20251212T183000
DTEND;TZID=America/Detroit:20251212T183000
DTSTAMP:20251124T153544Z
URL:https://www.arabamerica.com/events/empowered-the-voice-of-the-muslim-w
 oman-2/
SUMMARY:Empowered: The Voice of the Muslim Woman
DESCRIPTION:OAK LAWN\, IL\n\n\n\nThis is a welcoming space for sisters to e
 mpower each other and celebrate their talent. Come enjoy food\, entertainm
 ent\, and community!\n\n\n\n\nJoin us for an inspiring evening celebrating
  the diverse voices of Muslim women. Experience a powerful showcase of sel
 f-expression through Nasheed\, Quran recitation\, storytelling\, poetry\, 
 and more.\n\nEnjoy food\, community\, and an opportunity to support small 
 local businesses.\n\nDoors open at 5pm\, event will begin at 6:30pm and wi
 ll go til 8:30pm.\n\nBaby-sitting will be provided for ages 3-7 years old\
 , $5 per child. There will be limited seats\, get tickets ASAP\, they are 
 first come first serve.\n\n\n\n\n\n\n\n\n\n\n\n\n\n\n\n\n\n\n\n\n\n\n\n\n\
 n\n\n\n\n\n\n\n\n\n\n\n\n
ATTACH;FMTTYPE=image/jpeg:https://www.arabamerica.com/wp-content/uploads/2
 025/11/https-cdn.evbuc_.com-images-1171040292-2982896167280-1-original.202
 51115-160924.jpeg
LOCATION:8840 Ridgeland Ave\, 8840 Ridgeland Avenue\, Oak Lawn\, IL\, 60453
 \, United States
GEO:41.731184;-87.780624
X-APPLE-STRUCTURED-LOCATION;VALUE=URI;X-ADDRESS=8840 Ridgeland Avenue\, Oak
  Lawn\, IL\, 60453\, United States;X-APPLE-RADIUS=100;X-TITLE=8840 Ridgela
 nd Ave:geo:41.731184,-87.780624
END:VEVENT
BEGIN:VTIMEZONE
TZID:America/Detroit
X-LIC-LOCATION:America/Detroit
BEGIN:STANDARD
DTSTART:20251102T010000
TZOFFSETFROM:-0400
TZOFFSETTO:-0500
TZNAME:EST
END:STANDARD
END:VTIMEZONE
END:VCALENDAR