BEGIN:VCALENDAR
VERSION:2.0
PRODID:-//wp-events-plugin.com//7.2.3.1//EN
TZID:America/Detroit
X-WR-TIMEZONE:America/Detroit
BEGIN:VEVENT
UID:34425@arabamerica.com
DTSTART;TZID=America/Detroit:20250521T190000
DTEND;TZID=America/Detroit:20250521T203000
DTSTAMP:20250520T223045Z
URL:https://www.arabamerica.com/events/engaging-our-empathy-developing-our
 -confidence-a-workshop-for-palestine/
SUMMARY:Engaging Our Empathy\, Developing Our Confidence: a Workshop for Pa
 lestine
DESCRIPTION:Join us for this critical workshop as we struggle together to h
 eed the cries of humanity.
ATTACH;FMTTYPE=image/jpeg:https://www.arabamerica.com/wp-content/uploads/2
 025/05/Screenshot-2025-05-20-at-5.43.56-PM.png
LOCATION:525 East Gay Street\, 525 East Gay Street\, West Chester\, PA\, 19
 380\, United States
GEO:39.964371;-75.59765
X-APPLE-STRUCTURED-LOCATION;VALUE=URI;X-ADDRESS=525 East Gay Street\, West 
 Chester\, PA\, 19380\, United States;X-APPLE-RADIUS=100;X-TITLE=525 East G
 ay Street:geo:39.964371,-75.59765
END:VEVENT
BEGIN:VTIMEZONE
TZID:America/Detroit
X-LIC-LOCATION:America/Detroit
BEGIN:DAYLIGHT
DTSTART:20250309T030000
TZOFFSETFROM:-0500
TZOFFSETTO:-0400
TZNAME:EDT
END:DAYLIGHT
END:VTIMEZONE
END:VCALENDAR