BEGIN:VCALENDAR
VERSION:2.0
PRODID:-//wp-events-plugin.com//7.2.3.1//EN
TZID:America/Detroit
X-WR-TIMEZONE:America/Detroit
BEGIN:VEVENT
UID:32209@arabamerica.com
DTSTART;TZID=America/Detroit:20240309T170000
DTEND;TZID=America/Detroit:20240309T190000
DTSTAMP:20240206T041515Z
URL:https://www.arabamerica.com/events/enjoy-co-collective-benefit-hair-ja
 m-for-palestine/
SUMMARY:Enjoy Co Collective Benefit Hair Jam for Palestine!
DESCRIPTION:Portland\, OR. Join us at Enjoy Co on Saturday March 9th for ou
 r first event since 2021! We are so excited to bring our community togethe
 r in our space and what better way to do it than as a fundraiser a really 
 important cause. There will be live hair demos\, DJs\, food and drinks\, t
 ooth gems\, a photo booth\, and a raffle with some awesome prizes\, and 10
 0% of the proceeds will be donated to The Palestinian Children's Relief Fu
 nd. This is an industry event\, but absolutely all are welcome. Your ticke
 t purchase gets you access to the event\, complimentary food and drinks\, 
 and 2 raffle tickets. Additional raffle tickets $5 each available for purc
 hase at the event.
ATTACH;FMTTYPE=image/jpeg:https://www.arabamerica.com/wp-content/uploads/2
 024/02/https___cdn.evbuc_.com_images_680472119_352832642881_1_original-1.j
 peg
CATEGORIES:Community
LOCATION:Enjoy Co. Hair Studio\, 167 Northeast Grand Avenue\, Portland\, Or
 egan \, United States
GEO:45.524112;-122.660877
X-APPLE-STRUCTURED-LOCATION;VALUE=URI;X-ADDRESS=167 Northeast Grand Avenue\
 , Portland\, Oregan \, United States;X-APPLE-RADIUS=100;X-TITLE=Enjoy Co. 
 Hair Studio:geo:45.524112,-122.660877
END:VEVENT
BEGIN:VTIMEZONE
TZID:America/Detroit
X-LIC-LOCATION:America/Detroit
BEGIN:STANDARD
DTSTART:20231105T010000
TZOFFSETFROM:-0400
TZOFFSETTO:-0500
TZNAME:EST
END:STANDARD
END:VTIMEZONE
END:VCALENDAR