BEGIN:VCALENDAR
VERSION:2.0
PRODID:-//wp-events-plugin.com//7.2.3.1//EN
TZID:America/Detroit
X-WR-TIMEZONE:America/Detroit
BEGIN:VEVENT
UID:32372@arabamerica.com
DTSTART;TZID=America/Detroit:20240314T180000
DTEND;TZID=America/Detroit:20240314T233000
DTSTAMP:20240304T170842Z
URL:https://www.arabamerica.com/events/enter-you-among-my-honored-slaves-e
 lk-grove-iftar-event-march-14/
SUMMARY:Enter you\, among my honored slaves | Elk Grove Iftar event | March
  14
DESCRIPTION:&nbsp\;\n\n[caption id="attachment_245763" align="alignnone" wi
 dth="300"] Enter you\, among my honored slaves | Elk Grove Iftar event's p
 romotional poster[/caption]\n\n&nbsp\;\n\nELK GROVE\, CALIFORNIA\n\nConnec
 ting with Allah's names | Iftar/Taraweeh event | Elk Grove\, CA\n\nLet's c
 ome together to support our brothers and sisters in Palestine\, Sudan\, Ye
 men\, Syria\, Lebanon\, Pakistan &amp\; more.\n\nJoin us for an enlighteni
 ng Ramadan evening at Armaan's Palace in Elk Grove\, CA\, USA. Connect wit
 h Allah's names and experience His Love for the believers during times of 
 tribulations and trials\, in this special Iftar/Taraweeh event. Immerse yo
 urself in a spiritual atmosphere as we come together to learn and gain pro
 found insight with Sheikh Ammar AlShukry\, break fast together\, and liste
 n to heart-touching recitation and pray taraweeh behind the world renowned
  Qari Sheikh Muhammed Jebril. Don't miss this opportunity to connect with 
 fellow believers and strengthen your faith. Mark your calendars for this m
 emorable event and come prepared to be inspired!
ATTACH;FMTTYPE=image/jpeg:https://www.arabamerica.com/wp-content/uploads/2
 024/03/Enter-you-among-my-honored-slaves-Elk-Grove-Iftar-events-promotiona
 l-poster-.png
LOCATION:Armaan's Palace Event Hall\, 2301 Longport Court\, Elk Grove\, Cal
 ifornia\, 95758\, United States
GEO:38.425944;-121.481771
X-APPLE-STRUCTURED-LOCATION;VALUE=URI;X-ADDRESS=2301 Longport Court\, Elk G
 rove\, California\, 95758\, United States;X-APPLE-RADIUS=100;X-TITLE=Armaa
 n's Palace Event Hall:geo:38.425944,-121.481771
END:VEVENT
BEGIN:VTIMEZONE
TZID:America/Detroit
X-LIC-LOCATION:America/Detroit
BEGIN:DAYLIGHT
DTSTART:20240310T030000
TZOFFSETFROM:-0500
TZOFFSETTO:-0400
TZNAME:EDT
END:DAYLIGHT
END:VTIMEZONE
END:VCALENDAR