BEGIN:VCALENDAR
VERSION:2.0
PRODID:-//wp-events-plugin.com//7.2.3.1//EN
TZID:America/Detroit
X-WR-TIMEZONE:America/Detroit
BEGIN:VEVENT
UID:34686@arabamerica.com
DTSTART;TZID=America/Detroit:20250912T103000
DTEND;TZID=America/Detroit:20250912T113000
DTSTAMP:20250702T131017Z
URL:https://www.arabamerica.com/events/eternal-horizons-death-and-the-afte
 rlife-in-ancient-egypt/
SUMMARY:Eternal Horizons: Death and the Afterlife in Ancient Egypt
DESCRIPTION:ESTERO\, FL\n\n&nbsp\;\n\nJoin the historian of Koreshan State 
 Park for a fascinating journey into the beliefs and practices surrounding 
 death and the afterlife in Ancient Egypt. Discover the mysteries of tombs\
 , mummies\, and burial goods at this unique event. Learn about the rituals
  and customs that the ancient Egyptians followed to ensure a successful jo
 urney to the afterlife. Don't miss this opportunity to delve into the fasc
 inating world of one of history's most intriguing civilizations!\n\nExplor
 e the mysteries of death and the afterlife in Ancient Egypt.\n\nGet Ticket
 s Here
ATTACH;FMTTYPE=image/jpeg:https://www.arabamerica.com/wp-content/uploads/2
 025/07/Screenshot-2025-07-02-at-9.08.47-AM.png
CATEGORIES:Community,culture
LOCATION:Koreshan State Park\, 3800 Corkscrew Road\, Estero\, FL\, 33928\, 
 United States
GEO:26.435498;-81.81705
X-APPLE-STRUCTURED-LOCATION;VALUE=URI;X-ADDRESS=3800 Corkscrew Road\, Ester
 o\, FL\, 33928\, United States;X-APPLE-RADIUS=100;X-TITLE=Koreshan State P
 ark:geo:26.435498,-81.81705
END:VEVENT
BEGIN:VTIMEZONE
TZID:America/Detroit
X-LIC-LOCATION:America/Detroit
BEGIN:DAYLIGHT
DTSTART:20250309T030000
TZOFFSETFROM:-0500
TZOFFSETTO:-0400
TZNAME:EDT
END:DAYLIGHT
END:VTIMEZONE
END:VCALENDAR