BEGIN:VCALENDAR
VERSION:2.0
PRODID:-//wp-events-plugin.com//7.2.3.1//EN
TZID:America/Detroit
X-WR-TIMEZONE:America/Detroit
BEGIN:VEVENT
UID:34930@arabamerica.com
DTSTART;TZID=America/Detroit:20251019T150000
DTEND;TZID=America/Detroit:20251019T163000
DTSTAMP:20250806T013522Z
URL:https://www.arabamerica.com/events/eternity-in-stone-the-art-of-the-af
 terlife-in-ancient-egypt/
SUMMARY:Eternity in Stone: The Art of the Afterlife in Ancient Egypt
DESCRIPTION:\n\n\nTOWSON\, MD\n\n&nbsp\;\n\nEternity in Stone: The Art of t
 he Afterlife in Ancient Egypt\n\nExplore the visual language of eternity i
 n Ancient Egyptian funerary art. This lecture will decode symbolic motifs\
 , architectural design\, and the social-political function of tombs\, sarc
 ophagi\, and wall reliefs\, centering how art shaped ancient understanding
 s of life\, death\, and the divine.\n\n&nbsp\;\nFrom Medium to Meaning: Cr
 itical Perspectives in Art History\nA Monthly Lecture Series at Goucher Co
 llege\n\nWhat can a material say? How do artists use their mediums to expr
 ess memory\, identity\, power\, and protest?\n\nIn From Medium to Meaning\
 , this monthly lecture series explores the art historical\, cultural\, and
  political contexts of diverse artistic practices. Spanning ancient funera
 ry art to contemporary installation\, the series centers close looking\, m
 aterial exploration\, and critical analysis—connecting past to present\,
  the classroom to the gallery\, and the personal to the collective.\n\nEac
 h lecture will be presented by Liz Faust\, Director of Exhibitions and Cur
 ator\, and will highlight objects from Goucher’s collection\, regional a
 rtists\, or current exhibitions\, offering new ways of seeing art history 
 in motion.\n\n\n
ATTACH;FMTTYPE=image/jpeg:https://www.arabamerica.com/wp-content/uploads/2
 025/08/eternity_in_stone.png
LOCATION:Silber Art Gallery\, 1021 Dulaney Valley Road\, Towson\, MD\, 2120
 4\, United States
GEO:39.409858;-76.595633
X-APPLE-STRUCTURED-LOCATION;VALUE=URI;X-ADDRESS=1021 Dulaney Valley Road\, 
 Towson\, MD\, 21204\, United States;X-APPLE-RADIUS=100;X-TITLE=Silber Art 
 Gallery:geo:39.409858,-76.595633
END:VEVENT
BEGIN:VTIMEZONE
TZID:America/Detroit
X-LIC-LOCATION:America/Detroit
BEGIN:DAYLIGHT
DTSTART:20250309T030000
TZOFFSETFROM:-0500
TZOFFSETTO:-0400
TZNAME:EDT
END:DAYLIGHT
END:VTIMEZONE
END:VCALENDAR