BEGIN:VCALENDAR
VERSION:2.0
PRODID:-//wp-events-plugin.com//7.2.3.1//EN
TZID:America/Detroit
X-WR-TIMEZONE:America/Detroit
BEGIN:VEVENT
UID:31696@arabamerica.com
DTSTART;TZID=America/Detroit:20230930T180000
DTEND;TZID=America/Detroit:20230930T200000
DTSTAMP:20230919T022548Z
URL:https://www.arabamerica.com/events/evening-of-hope-for-syria/
SUMMARY:Evening of Hope for Syria
DESCRIPTION:\n\n\n\n\n\nJoin us for an unforgettable evening of hope as we 
 come together to support Syria. This in-person event will take place at Cu
 rran Hall\, 615 E Capitol Ave\, Little Rock\, AR\, USA. We'll have inspiri
 ng speakers and and delicious food. Together\, let's make a difference and
  bring hope to those who need it the most. Don't miss out on this opportun
 ity to show your support and stand in solidarity with the people of Syria.
  Mark your calendars and join us for an evening filled with compassion\, u
 nity\, and hope.\n\n\n\n\n
ATTACH;FMTTYPE=image/jpeg:https://www.arabamerica.com/wp-content/uploads/2
 023/09/https-cdn.evbuc_.com-images-591015249-1102869863073-1-original.2023
 0906-003940.jpeg
CATEGORIES:Arab,Arab American,Arab Food,Charity,charity
 fundraiser,Community,Food,Fundraiser,Fundraising,Syria,Syrian,Syrian
 Culture,Syrian Food
LOCATION:Curran Hall\, 615 E Capitol Ave\, Little Rock\, AR\, 72202\, Unite
 d States
GEO:34.742806;-92.264614
X-APPLE-STRUCTURED-LOCATION;VALUE=URI;X-ADDRESS=615 E Capitol Ave\, Little 
 Rock\, AR\, 72202\, United States;X-APPLE-RADIUS=100;X-TITLE=Curran Hall:g
 eo:34.742806,-92.264614
END:VEVENT
BEGIN:VTIMEZONE
TZID:America/Detroit
X-LIC-LOCATION:America/Detroit
BEGIN:DAYLIGHT
DTSTART:20230312T030000
TZOFFSETFROM:-0500
TZOFFSETTO:-0400
TZNAME:EDT
END:DAYLIGHT
END:VTIMEZONE
END:VCALENDAR