BEGIN:VCALENDAR
VERSION:2.0
PRODID:-//wp-events-plugin.com//7.2.3.1//EN
TZID:America/Detroit
X-WR-TIMEZONE:America/Detroit
BEGIN:VEVENT
UID:33277@arabamerica.com
DTSTART;TZID=America/Detroit:20240806T180000
DTEND;TZID=America/Detroit:20240806T210000
DTSTAMP:20240730T171422Z
URL:https://www.arabamerica.com/events/exclusive-screening-of-kill-zone-in
 side-gaza/
SUMMARY:Exclusive Screening of “Kill Zone: Inside Gaza”
DESCRIPTION:SAN FRANCISCO\, CA\n\n\n\n\n\n\n\n\n\nExclusive Screening of 
 “Kill Zone: Inside Gaza”\n\nGazan journalists have been sharing footag
 e of the violence and terror the IOF have committed since last October. Th
 is exclusive documentary of Journalist Hind Khoudary and other press was p
 rovided by Hind's family\, it captures raw scenes by press on the ground.\
 n\nIn collaboration with Medicine for Nightmares\, Najat Collective will s
 creen this documentary on Tuesday\, August 6th at 6PM. RSVP is required th
 rough a donation on a sliding scale $15-25. Seats are limited\, due to cap
 acity constraints.\n\nBearing witness is one of the many ways of showing u
 p for Palestine. Join us in honoring these journalists and contributing to
  our mutual aid funds directly to Gazans in need.\n\nHave questions? Messa
 ge us on Instagram.\n\n\n\n\n\n\n\n\n
ATTACH;FMTTYPE=image/jpeg:https://www.arabamerica.com/wp-content/uploads/2
 024/07/temp-64.jpg
LOCATION:Medicine for Nightmares\, 3036 24th Street \, San Francisco\, Cali
 fornia\, 94110\, United States
GEO:37.752769;-122.412725
X-APPLE-STRUCTURED-LOCATION;VALUE=URI;X-ADDRESS=3036 24th Street \, San Fra
 ncisco\, California\, 94110\, United States;X-APPLE-RADIUS=100;X-TITLE=Med
 icine for Nightmares:geo:37.752769,-122.412725
END:VEVENT
BEGIN:VTIMEZONE
TZID:America/Detroit
X-LIC-LOCATION:America/Detroit
BEGIN:DAYLIGHT
DTSTART:20240310T030000
TZOFFSETFROM:-0500
TZOFFSETTO:-0400
TZNAME:EDT
END:DAYLIGHT
END:VTIMEZONE
END:VCALENDAR