BEGIN:VCALENDAR
VERSION:2.0
PRODID:-//wp-events-plugin.com//7.2.3.1//EN
TZID:America/Detroit
X-WR-TIMEZONE:America/Detroit
BEGIN:VEVENT
UID:32106@arabamerica.com
DTSTART;TZID=America/Detroit:20240105T180000
DTEND;TZID=America/Detroit:20240212T210000
DTSTAMP:20240123T024727Z
URL:https://www.arabamerica.com/events/exhibition-my-palestine-keeps-on-gr
 owing-3/
SUMMARY:Exhibition: My Palestine Keeps On Growing
DESCRIPTION:MY PALESTINE KEEPS ON GROWING\nOpening Reception: Friday\, Janu
 ary 5\, 2024| 6-9pm | Free-To-Attend\nFriday\, January 5\, 2024 – Sunday
 \, February 12\, 2024\nPresented in Gallery Two\nMY PALESTINE KEEPS ON GRO
 WING // MA PALESTINE NE S’ARRÊTE PAS DE GRANDIR\nis a text-based visual
  art show featuring the work of Palestinian poet and performer Farah Chamm
 a. The exhibition displays a collection of Farah’s poetry in Arabic\, En
 glish and French\, including Falastini Ana ******* Visa. The visual emph
 asis on the letters and words that comprise these poems invites you to exp
 erience the materiality of sentiment\, the persistance of spirit\, perspec
 tive\, thought and emotion and poetry and art and humanity\, and how such 
 permanence can be cultivated and cared for under the fragmenting forces of
  genocide and violence.\nDESIGN &amp\; CURATION: Ali Rufrano-Ruffner\nTRAN
 SLATION: Rijbergen Desroches\nABOUT THE ARTIST\nA Palestinian poet and per
 former\, Farah is known for her spoken-word performances\, in which she 
 combines orality\, acting\, and live music. She’s participated in many d
 ifferent events and festivals around the world including: Palestine en Cam
 pagne (France)\, Wilde Möhre (Germany)\, Bradford Literature Festival (UK
 )\, Karama Film Festival (Jordan)\, Faladura (Portugal)\, Requiem for Just
 ice (Mexico)\, Le Guess Who? (Holland) and many more. In February 2021\, s
 he and Brazilian music producer Liev launched chamaeleon\, a poetry and el
 ectronic music duo. Besides her native Arabic\, she also writes and perfor
 ms in English and French. She holds a master’s degree in Performance and
  Culture from Goldsmiths\, University of London and a BA in Philosophy and
  Sociology from the Sorbonne in Paris. She is currently based in São Paul
 o.
CATEGORIES:Arab Ameircan Event,Arab American,Community,culture
LOCATION:Vox Populi\, 319 North\, 11th Street\, Philadelphia\, Pennsylvania
 \, 19107\, United States
GEO:39.958289;-75.15659
X-APPLE-STRUCTURED-LOCATION;VALUE=URI;X-ADDRESS=319 North\, 11th Street\, P
 hiladelphia\, Pennsylvania\, 19107\, United States;X-APPLE-RADIUS=100;X-TI
 TLE=Vox Populi:geo:39.958289,-75.15659
END:VEVENT
BEGIN:VTIMEZONE
TZID:America/Detroit
X-LIC-LOCATION:America/Detroit
BEGIN:STANDARD
DTSTART:20231105T010000
TZOFFSETFROM:-0400
TZOFFSETTO:-0500
TZNAME:EST
END:STANDARD
END:VTIMEZONE
END:VCALENDAR