BEGIN:VCALENDAR
VERSION:2.0
PRODID:-//wp-events-plugin.com//7.2.3.1//EN
TZID:America/Detroit
X-WR-TIMEZONE:America/Detroit
BEGIN:VEVENT
UID:35415@arabamerica.com
DTSTART:20251208T000000Z
DTEND:20251208T023000Z
DTSTAMP:20251117T215309Z
URL:https://www.arabamerica.com/events/experience-a-taste-of-palestine-a-c
 ultural-immersion-event/
SUMMARY:Experience a Taste of Palestine: A Cultural Immersion Event
DESCRIPTION:\n\nOverview\n\n\n\n\n\nCome and join us for a unique cultural 
 experience where you can taste the flavors of Palestine and immerse yourse
 lf in its rich traditions!\n\n\n\n\nExperience a Taste of Palestine: A Cul
 tural Immersion Event\n\nCome join us at Egg Cetera for a unique opport
 unity to immerse yourself in the rich culture and flavors of Palestine. In
 dulge in traditional Palestinian dishes and experience vibrant music. This
  in-person event promises to be a feast for the senses\, offering an authe
 ntic taste of Palestine right in the heart of our community. Don't miss ou
 t on this unforgettable cultural experience!\n\nWe are thrilled to showcas
 e the culinary artistry of Jinan Deena\, founder and owner of Bayti in 
 Washington\, D.C. She has crafted an exceptional menu that reflects both h
 er Palestinian heritage and her deep passion for sharing the richness of P
 alestinian cuisine with communities around the world.\n\nAll ticket procee
 ds will be donated to the Gaza Soup Kitchen\, an organization that provid
 es food and essential support to families facing severe hardship in Gaza.
  Agnew Law\, Bayti\, and Egg Cetera have sponsored this event\, so every
  dollar from ticket sales goes directly to the Gaza Soup Kitchen.\n\nThe e
 vent offers two pricing options: $75 for a seven-course meal\, or $100 for
  the same seven-course meal paired with two glasses of wine. The meals wil
 l be served family-style\, as is customary in Palestinian culture.\n\nSeve
 n Course Meal:\n\nSalatat Baytanjaan\nroasted eggplant dip\, parsley\, gar
 lic\, tomato\, chilis\, olive oil\, lemon juice\n\nSalata Arabiya\ntomato\
 , cucumber\, parsley\, mint\, olive oil\, lemon juice\n\nLoubia bi Zayt\ng
 reen bean stew: tomato\, onion\, garlic\, spices\n\nRuz bi Shi riya\nrice\
 , vermicelli noodles\n\nDajaj Mashwee\nroasted chicken thighs\, garlic\, P
 alestinian spices\n\nNamoura\nPalestinian semolina cake\n\nBouzet al Da’
 \nPistachio ice cream\n\nDessert Served with Turkish Coffee\n\n$25 - 2 Gla
 sses of Either / Or\nIxsir Altitudes Rouge (Lebanese / Batroun District)\n
 Ixsir Altitudes Blanc (Lebanese / Batroun District)\n\n\n\n\n\n
LOCATION:Egg Cetera\, 242 North Mosley Street\, Wichita\, KS\, 67211\, Unit
 ed States
GEO:37.689262;-97.327455
X-APPLE-STRUCTURED-LOCATION;VALUE=URI;X-ADDRESS=242 North Mosley Street\, W
 ichita\, KS\, 67211\, United States;X-APPLE-RADIUS=100;X-TITLE=Egg Cetera:
 geo:37.689262,-97.327455
END:VEVENT
END:VCALENDAR