BEGIN:VCALENDAR
VERSION:2.0
PRODID:-//wp-events-plugin.com//7.2.3.1//EN
TZID:America/Detroit
X-WR-TIMEZONE:America/Detroit
BEGIN:VEVENT
UID:35658@arabamerica.com
DTSTART;TZID=America/New_York:20260112T173000
DTEND;TZID=America/New_York:20260112T183000
DTSTAMP:20260106T164301Z
URL:https://www.arabamerica.com/events/experience-luxury-travel-featuring-
 morocco-3/
SUMMARY:Experience Luxury Travel Featuring Morocco
DESCRIPTION:STUART\, FL\n\nOverview\n\n\n\n\n\nGet ready to immerse yoursel
 f in the lavish world of luxury travel as we explore the stunning beauty o
 f Morocco!\n\n\n\nExperience Luxury Travel Featuring Morocco\nReady for an
  unforgettable journey? Join us in person to dive into the world of luxury
  travel with a special spotlight on the vibrant and exotic Morocco. Discov
 er hidden gems\, stunning landscapes\, and rich culture all wrapped in top
 -notch comfort. Whether you’re a seasoned traveler or just dreaming\, th
 is event is your ticket to inspiration and insider tips. Don’t miss out!
 \n\nRSVP ONLINE AT AAA.COM/events or CALL 772-287-5300\n\n\n\n\n\n
ATTACH;FMTTYPE=image/jpeg:https://www.arabamerica.com/wp-content/uploads/2
 026/01/Screenshot-2026-01-06-at-11.45.32-AM.png
LOCATION:AAA Stuart\, 1610 Southeast Federal Highway\, Stuart\, FL\, 34994\
 , United States
GEO:27.183163;-80.243121
X-APPLE-STRUCTURED-LOCATION;VALUE=URI;X-ADDRESS=1610 Southeast Federal High
 way\, Stuart\, FL\, 34994\, United States;X-APPLE-RADIUS=100;X-TITLE=AAA S
 tuart:geo:27.183163,-80.243121
END:VEVENT
BEGIN:VTIMEZONE
TZID:America/New_York
X-LIC-LOCATION:America/New_York
BEGIN:STANDARD
DTSTART:20251102T010000
TZOFFSETFROM:-0400
TZOFFSETTO:-0500
TZNAME:EST
END:STANDARD
END:VTIMEZONE
END:VCALENDAR