BEGIN:VCALENDAR
VERSION:2.0
PRODID:-//wp-events-plugin.com//7.2.3.1//EN
TZID:America/Detroit
X-WR-TIMEZONE:America/Detroit
BEGIN:VEVENT
UID:33610@arabamerica.com
DTSTART;TZID=America/Detroit:20241115T180000
DTEND;TZID=America/Detroit:20241115T200000
DTSTAMP:20241002T040944Z
URL:https://www.arabamerica.com/events/experience-morocco-85-per-person-ci
 ncinnati-location/
SUMMARY:Experience Morocco $85 per person (Cincinnati Location)
DESCRIPTION:Cincinnati\, OH\nDiscover the Exotic Flavors of Morocco: Join O
 ur Moroccan Cooking Class!\nStep into the world of Moroccan cuisine with o
 ur immersive cooking class. Perfect for food lovers\, culture enthusiasts\
 , and adventurous cooks\, our class offers a unique opportunity to learn t
 he art of Moroccan cooking from expert chefs.\n\nWhat You’ll Experience:
 \n\n 	Authentic Recipes: Learn to prepare classic Moroccan dishes such as
  Tagine (Harissa/ Ras Al Hanout Chicken Tagine)\, Couscous\, Beef Kefta (B
 eef Kabob/Kebab) served with pita bread and yogurt\, and Moroccan tomato s
 alad. Our experienced chefs will guide you through each step\, ensuring yo
 u capture the authentic flavors and techniques of Moroccan cooking.\n 	Cul
 tural Insights: Delve into the rich cultural heritage and history behind 
 each dish. Discover the traditional spices\, ingredients\, and cooking met
 hods that make Moroccan cuisine so distinctive and flavorful.\n 	Hands-On 
 Learning: Get hands-on experience as you prepare and cook each dish yours
 elf. Whether you’re a beginner or an experienced cook\, our class is des
 igned to be informative and enjoyable for all skill levels.\n\nLocation: F
 indlay Kitchen: 1719 Elm street\, Cincinnati OH 45202\nTime zone: Eastern 
 time
ATTACH;FMTTYPE=image/jpeg:https://www.arabamerica.com/wp-content/uploads/2
 024/10/6661E3D3-BDB8-41E4-866F-AECE76CC2E95.jpeg
LOCATION:Findlay Kitchen\, 1719 Elm St\, Cincinnati\, Ohio\, 45202\, United
  States
GEO:39.114415;-84.519966
X-APPLE-STRUCTURED-LOCATION;VALUE=URI;X-ADDRESS=1719 Elm St\, Cincinnati\, 
 Ohio\, 45202\, United States;X-APPLE-RADIUS=100;X-TITLE=Findlay Kitchen:ge
 o:39.114415,-84.519966
END:VEVENT
BEGIN:VTIMEZONE
TZID:America/Detroit
X-LIC-LOCATION:America/Detroit
BEGIN:STANDARD
DTSTART:20241103T010000
TZOFFSETFROM:-0400
TZOFFSETTO:-0500
TZNAME:EST
END:STANDARD
END:VTIMEZONE
END:VCALENDAR