BEGIN:VCALENDAR
VERSION:2.0
PRODID:-//wp-events-plugin.com//7.2.3.1//EN
TZID:America/Detroit
X-WR-TIMEZONE:America/Detroit
BEGIN:VEVENT
UID:34552@arabamerica.com
DTSTART;TZID=America/Detroit:20250621T180000
DTEND;TZID=America/Detroit:20250621T203000
DTSTAMP:20250610T154006Z
URL:https://www.arabamerica.com/events/exploring-middle-eastern-cuisine-co
 oking-class-by-cozymeal-2/
SUMMARY:Exploring Middle Eastern Cuisine - Cooking Class by Cozymeal&#x2122
 \;
DESCRIPTION:LONGMONT\, CO\n\nLocation provided after booking.\n\n&nbsp\;\n\
 nPhenomenal food and incredible company await you at the chef's table! Joi
 n Cozymeal’s upcoming cooking class Join “Exploring Middle Eastern Cui
 sine” with Chef Jay or Resident Chef for an intimate 3-hour culinary exp
 erience and 3-course meal.\n\nCozymeal offers a variety of culinary experi
 ences\, including cooking classes\, team building activities\, food tours 
 and private chef services. We’ll give you a unique\, unforgettable exper
 ience hosted by incredible chefs and guides in over 70 cities across the U
 .S. and Canada. Book a culinary experience with Cozymeal and let us take c
 are of the rest.
ATTACH;FMTTYPE=image/jpeg:https://www.arabamerica.com/wp-content/uploads/2
 025/06/middle_eastern_cuisine.png
END:VEVENT
BEGIN:VTIMEZONE
TZID:America/Detroit
X-LIC-LOCATION:America/Detroit
BEGIN:DAYLIGHT
DTSTART:20250309T030000
TZOFFSETFROM:-0500
TZOFFSETTO:-0400
TZNAME:EDT
END:DAYLIGHT
END:VTIMEZONE
END:VCALENDAR