BEGIN:VCALENDAR
VERSION:2.0
PRODID:-//wp-events-plugin.com//7.2.3.1//EN
TZID:America/Detroit
X-WR-TIMEZONE:America/Detroit
BEGIN:VEVENT
UID:34701@arabamerica.com
DTSTART;TZID=America/Detroit:20250816T180000
DTEND;TZID=America/Detroit:20250816T203000
DTSTAMP:20250703T020204Z
URL:https://www.arabamerica.com/events/exploring-middle-eastern-cuisine-co
 oking-class-by-cozymeal-3/
SUMMARY:Exploring Middle Eastern Cuisine - Cooking Class by Cozymeal&#x2122
 \;
DESCRIPTION:\n\n\n\nLONGMONT\, CO\n\nPhenomenal food and incredible company
  await you at the chef's table! Join Cozymeal’s upcoming cooking class J
 oin “Exploring Middle Eastern Cuisine” with Chef Jay or Resident Chef 
 for an intimate 3-hour culinary experience and 3-course meal.\n\n\n\n\nCoz
 ymeal offers a variety of culinary experiences\, including cooking classes
 \, team building activities\, food tours and private chef services. We’l
 l give you a unique\, unforgettable experience hosted by incredible chefs 
 and guides in over 70 cities across the U.S. and Canada. Book a culinary e
 xperience with Cozymeal and let theus take care of the rest.\n\nFor additi
 onal information and dates visit Exploring Middle Eastern Cuisine\n\n\n\n\
 n\n\n\n\n\n\n\n\n\n\nTags\n\n\n\n
ATTACH;FMTTYPE=image/jpeg:https://www.arabamerica.com/wp-content/uploads/2
 025/07/Screenshot-2025-07-02-at-9.59.45 PM.png
END:VEVENT
BEGIN:VTIMEZONE
TZID:America/Detroit
X-LIC-LOCATION:America/Detroit
BEGIN:DAYLIGHT
DTSTART:20250309T030000
TZOFFSETFROM:-0500
TZOFFSETTO:-0400
TZNAME:EDT
END:DAYLIGHT
END:VTIMEZONE
END:VCALENDAR