BEGIN:VCALENDAR
VERSION:2.0
PRODID:-//wp-events-plugin.com//7.2.3.1//EN
TZID:America/Detroit
X-WR-TIMEZONE:America/Detroit
BEGIN:VEVENT
UID:31787@arabamerica.com
DTSTART;TZID=America/Detroit:20231029T180000
DTEND;TZID=America/Detroit:20231029T210000
DTSTAMP:20231017T154547Z
URL:https://www.arabamerica.com/events/eye-of-palestine/
SUMMARY:Eye of Palestine
DESCRIPTION:Join us for an unforgettable evening as we come together to cel
 ebrate and support Palestine at the Thwing Ballroom on October 29th. Our e
 vent promises to be a remarkable experience filled with culture\, communit
 y\, and compassion\, and it's open to the entire Cleveland community. Here
 's a glimpse of what you can expect:\n\n&nbsp\;\nEvent Highlights\n&nbsp\;
 \n\nFashion Show with a Purpose: Experience a mesmerizing fashion show fea
 turing exquisite garments and accessories donated by the community. Each p
 iece will not only showcase the beauty of Palestinian fashion but also sym
 bolize our solidarity with Palestine.\n\n&nbsp\;\n\nCulinary Delights: Sav
 or the authentic flavors of Palestinian cuisine\, with a variety of delici
 ous dishes that will transport your taste buds to the heart of Palestine.\
 n\n&nbsp\;\n\nHenna Artistry: Immerse yourself in the intricate art of hen
 na with skilled artists who will create beautiful designs on your hands\, 
 a tradition deeply rooted in Palestinian culture.\n\n&nbsp\;\n\nRaffle Tab
 le: Get a chance to win exciting prizes in our raffle\, with all proceeds 
 contributing to our cause.\n\n&nbsp\;\n\nPoetry Reading and Speeches: List
 en to heartfelt poetry readings and inspiring speeches that shed light on 
 the rich history\, struggles\, and resilience of the Palestinian people.\n
 \n&nbsp\;\n\nThis event is more than just a gathering\; it's an opportunit
 y to come together as a community\, show our support for Palestine\, and e
 xperience the beauty of Palestinian culture. We invite you to join us in m
 aking a difference and spreading love\, hope\, and awareness. Don't miss o
 ut on this incredible evening of unity and compassion. See you at the Thwi
 ng Ballroom on October 29th! Together\, we can walk through Palestine\, ev
 en if it's just in spirit.
CATEGORIES:Palestine,Palestinian,Palestinian Identity,Palestinian
 Voices,Palestinian Youth
LOCATION:Thwing Center\, 11111 Euclid Avenue\, Cleveland\, OH\, 44106\, Uni
 ted States
GEO:41.507407;-81.608327
X-APPLE-STRUCTURED-LOCATION;VALUE=URI;X-ADDRESS=11111 Euclid Avenue\, Cleve
 land\, OH\, 44106\, United States;X-APPLE-RADIUS=100;X-TITLE=Thwing Center
 :geo:41.507407,-81.608327
END:VEVENT
BEGIN:VTIMEZONE
TZID:America/Detroit
X-LIC-LOCATION:America/Detroit
BEGIN:DAYLIGHT
DTSTART:20230312T030000
TZOFFSETFROM:-0500
TZOFFSETTO:-0400
TZNAME:EDT
END:DAYLIGHT
END:VTIMEZONE
END:VCALENDAR