BEGIN:VCALENDAR
VERSION:2.0
PRODID:-//wp-events-plugin.com//7.2.3.1//EN
TZID:America/Detroit
X-WR-TIMEZONE:America/Detroit
BEGIN:VEVENT
UID:35655@arabamerica.com
DTSTART;TZID=America/New_York:20260122T180000
DTEND;TZID=America/New_York:20260122T200000
DTSTAMP:20260106T162804Z
URL:https://www.arabamerica.com/events/eyes-in-gaza-ii/
SUMMARY:Eyes in Gaza II
DESCRIPTION:NEW YORK\, NY\n\nEyes in Gaza II is first hand accounts on the 
 ground in the Gaza Strip: a place millions call home that may soon cease t
 o exist.\n\n\n\n\nEyes in Gaza II is a collection of first hand accounts o
 n the ground in the Gaza Strip: a place millions call home that may soon c
 ease to exist.\n\nSince 2018\, the Lucie Impact Award has been presented t
 o a photographer who created the most substantial journalistic contributio
 ns that year. In 2023\, the Impact award was given not to an an individual
 \, but a group of twenty-two photojournalists and press photographers work
 ing in the Gaza Strip: Dawoud AboAlkas\, Samar Abu Elouf\, AbdelHakeem Abu
  Riash\, Mohammed Al Masri\, Saher Alghorra\, Loay Ayyoub\, Motaz Azaiza\,
  Mohammed Baba\, Mahmoud Bassam\, Mohammed Dahman\, Majdi Fathi\, Mahmud H
 ams\, Ahmad Hasaballah\, Mohammed Jadallah Salem\, Suhail Nassar\, Haitham
  Nuralden\, Yasser Qudih\, Mohammed Talatene\, Bashar Taleb\, Mohammed Zaa
 noun\, Ahmed Zakot\, and Abed Zagout. By putting their life on the line\, 
 these twenty-two individuals were able to bring never before seen imagery 
 of a quickly progressing conflict in real time to thousands worldwide.\n\n
 Years later and the situation remains similarly bleak. The motivation behi
 nd Eyes in Gaza II remains consistent: to amplify the voices of those expe
 riencing the realities of the conflict firsthand. Due to the nature of the
  conflict\, numerous photojournalists have been forced to take refuge and 
 have ceased their work covering the conflict. The photography in this exhi
 bition consists of a mixture of both older images and a selection of recen
 t images from those who are still actively documenting life in the Gaza St
 rip. Each photograph is a segment of the overall story\, told through the 
 lens of those affected every day by the countless tragedies.\n\nThank you 
 to St. John the Divine for opening their doors for this urgent and topical
  body of work. Thank you to Keith Manning\, Rev. Elizabeth G. Maxwell\, an
 d Rabbi Ellen Lippmann for your support in bringing this exhibition to New
  York.\n\nThis exhibition is made possible by the Lucie Foundation and cur
 ated by Alice Dison and Theo Carol.\n\nREGISTER HERE\n\n\n
ATTACH;FMTTYPE=image/jpeg:https://www.arabamerica.com/wp-content/uploads/2
 026/01/Screenshot-2026-01-06-at-11.32.40-AM.png
LOCATION:Cathedral of St. John the Divine\, 1047 Amsterdam Avenue\, New Yor
 k\, NY\, 10025\, United States
GEO:40.803821;-73.961836
X-APPLE-STRUCTURED-LOCATION;VALUE=URI;X-ADDRESS=1047 Amsterdam Avenue\, New
  York\, NY\, 10025\, United States;X-APPLE-RADIUS=100;X-TITLE=Cathedral of
  St. John the Divine:geo:40.803821,-73.961836
END:VEVENT
BEGIN:VTIMEZONE
TZID:America/New_York
X-LIC-LOCATION:America/New_York
BEGIN:STANDARD
DTSTART:20251102T010000
TZOFFSETFROM:-0400
TZOFFSETTO:-0500
TZNAME:EST
END:STANDARD
END:VTIMEZONE
END:VCALENDAR